BEGIN:VCALENDAR
PRODID:NingEventWidget-v1
VERSION:2.0
METHOD:PUBLISH
BEGIN:VTIMEZONE
TZID:America/Boise
X-LIC-LOCATION:America/Boise
BEGIN:DAYLIGHT
TZOFFSETFROM:-0700
TZOFFSETTO:-0600
TZNAME:MDT
DTSTART:19700308T020000
RRULE:FREQ=YEARLY;BYMONTH=3;BYDAY=2SU
END:DAYLIGHT
BEGIN:STANDARD
TZOFFSETFROM:-0600
TZOFFSETTO:-0700
TZNAME:MST
DTSTART:19701101T020000
RRULE:FREQ=YEARLY;BYMONTH=11;BYDAY=1SU
END:STANDARD
END:VTIMEZONE
BEGIN:VEVENT
UID:2985220:Event:517790
DTSTAMP:20260419T232658Z
SUMMARY:Grasshopper Nível-I
DESCRIPTION: Curso de Estru­tu­ração dia­gramática de lóg­i­
 cas e princí­pios ele­mentares da arqui­tec­tura paramétrica. Os
  alunos terão um primeiro con­tacto com as novas fer­ra­men­tas d
 ig­i­tais emer­gentes que vão pos­si­bil­i­tar a cri­ação d
 e for­mas mais com­plexas, dinâmi­cas e paramétricas.\nhttp://www
 .rhino3dportugal.com/website/?portfolio=grasshopper.\n\nFor more infor
 mation visit https://www.grasshopper3d.com/events/grasshopper-n-vel-i
DTSTART;TZID=America/Boise:20120209T180000
DTEND;TZID=America/Boise:20120211T180000
CATEGORIES:training
LOCATION:Rhino3Dportugal | DigitaLab
WEBSITE:http://www.iscte-iul.pt/quem_somos/localizacao.aspx
URL:http://www.iscte-iul.pt/quem_somos/localizacao.aspx
CONTACT:00351- 211933749 | 917140716
ORGANIZER:Rhino3Dportugal
ATTACH;FMTTYPE="image/jpeg":http://storage.ning.com/topology/rest/1.0/
 file/get/2827918379?profile=original
ATTENDEE;ROLE=REQ-PARTICIPANT;PARTSTAT=ACCEPTED;RSVP=TRUE;CN="Brimet S
 ilva":https://www.grasshopper3d.com/profile/BrimetSilva
END:VEVENT
END:VCALENDAR
