BEGIN:VCALENDAR
PRODID:NingEventWidget-v1
VERSION:2.0
METHOD:PUBLISH
BEGIN:VTIMEZONE
TZID:America/Boise
X-LIC-LOCATION:America/Boise
BEGIN:DAYLIGHT
TZOFFSETFROM:-0700
TZOFFSETTO:-0600
TZNAME:MDT
DTSTART:19700308T020000
RRULE:FREQ=YEARLY;BYMONTH=3;BYDAY=2SU
END:DAYLIGHT
BEGIN:STANDARD
TZOFFSETFROM:-0600
TZOFFSETTO:-0700
TZNAME:MST
DTSTART:19701101T020000
RRULE:FREQ=YEARLY;BYMONTH=11;BYDAY=1SU
END:STANDARD
END:VTIMEZONE
BEGIN:VEVENT
UID:2985220:Event:1629562
DTSTAMP:20260419T233410Z
SUMMARY:Grasshopper London User Group Meeting at Foster & Partners
DESCRIPTION:Hello everyone!\nFoster & Partners are hosting our next Gr
 asshopper London User Group Meeting from 18:30-20:30 on Wednesday 23rd
  November 2016.\n\nMore details on presentations here.\n\nPlease note 
 that this meeting is now at capacity and we are unable to take any mor
 e registrations. \n\nWe look forward to seeing those of you with a co
 nfirmed place on Wednesday 23rd November.\n\nThanks :)\n\nFor more inf
 ormation visit https://www.grasshopper3d.com/events/grasshopper-london
 -user-group-meeting-at-foster-partners
DTSTART;TZID=America/Boise:20161123T183000
DTEND;TZID=America/Boise:20161123T203000
CATEGORIES:user, group, meeting
LOCATION:Foster and Partners
WEBSITE:https://www.google.com/maps/place/Foster+%26+Partners/@51.4809
 123,-0.1677179,18z/data=!4m5!3m4!1s0x0:0xf8e9933169593633!8m2!3d51.480
 8208!4d-0.1683388
URL:https://www.google.com/maps/place/Foster+%26+Partners/@51.4809123,
 -0.1677179,18z/data=!4m5!3m4!1s0x0:0xf8e9933169593633!8m2!3d51.4808208
 !4d-0.1683388
CONTACT:
ORGANIZER:Paul Cowell / Arthur Mamou-Mani
ATTACH;FMTTYPE="image/jpeg":http://storage.ning.com/topology/rest/1.0/
 file/get/2829546999?profile=original
ATTENDEE;ROLE=REQ-PARTICIPANT;PARTSTAT=ACCEPTED;RSVP=TRUE;CN=MattBurto
 n:https://www.grasshopper3d.com/profile/MattByrton
ATTENDEE;ROLE=REQ-PARTICIPANT;PARTSTAT=ACCEPTED;RSVP=TRUE;CN="Paul Cow
 ell":https://www.grasshopper3d.com/profile/PaulCowell
ATTENDEE;ROLE=REQ-PARTICIPANT;PARTSTAT=ACCEPTED;RSVP=TRUE;CN="Arthur M
 amou-Mani":https://www.grasshopper3d.com/profile/arthurmamoumani
END:VEVENT
END:VCALENDAR
