BEGIN:VCALENDAR
PRODID:NingEventWidget-v1
VERSION:2.0
METHOD:PUBLISH
BEGIN:VTIMEZONE
TZID:America/Boise
X-LIC-LOCATION:America/Boise
BEGIN:DAYLIGHT
TZOFFSETFROM:-0700
TZOFFSETTO:-0600
TZNAME:MDT
DTSTART:19700308T020000
RRULE:FREQ=YEARLY;BYMONTH=3;BYDAY=2SU
END:DAYLIGHT
BEGIN:STANDARD
TZOFFSETFROM:-0600
TZOFFSETTO:-0700
TZNAME:MST
DTSTART:19701101T020000
RRULE:FREQ=YEARLY;BYMONTH=11;BYDAY=1SU
END:STANDARD
END:VTIMEZONE
BEGIN:VEVENT
UID:2985220:Event:897411
DTSTAMP:20260423T160106Z
SUMMARY:Grasshopper Logics for Performance-Based Design
DESCRIPTION:the participants will learn new techniques in Grasshopper 
 focusing on optimizing the design solution based on a performance obje
 ctive. The exercises will be gradually increased on complexity, from s
 imple shading devices to high responsive  building skin. ... The part
 icipants will be taught Grasshopper logics and different modeling tech
 niques in the first two days and on the final day they will learn how 
 to associate and optimizes the design solution with the Environmental 
 analysis software “Ecotect” in order to make \"performance based d
 esign\".\n\nFull Description is available on :\n\nhttp://grasshopperpo
 limi.wordpress.com/2013/08/07/grasshopper-logics-for-performance-based
 -design-workshop/\n\nOrganizing Team: - Dr. Khaled El-Deeb  - Arch. Ma
 i Karram - Arch. Heba Moanes.  - DAWSHA group ------------------------
 ------------------------- To register, please fill the form: https://d
 ocs.google.com/forms/d/1G6TTSgmGXju8XMUVrGW5LTzVh47eNkk2sceASDECsHI/ed
 it  and contact: Arch. Heba Moanes - Assistant lecturer  E: hopiz@hotm
 ail.com - Mobile: 01001509941\n\nFor more information visit https://ww
 w.grasshopper3d.com/events/grasshopper-logics-for-performance-based-de
 sign
DTSTART;TZID=America/Boise:20130817T090000
DTEND;TZID=America/Boise:20130819T170000
CATEGORIES:workshop
LOCATION:Faculty of Fine arts, Alexandria university, Egypt
WEBSITE:http://grasshopperpolimi.wordpress.com/2013/08/07/grasshopper-
 logics-for-performance-based-design-workshop/
URL:http://grasshopperpolimi.wordpress.com/2013/08/07/grasshopper-logi
 cs-for-performance-based-design-workshop/
CONTACT:
ORGANIZER:Ayman Wagdy
ATTACH;FMTTYPE="image/jpeg":http://storage.ning.com/topology/rest/1.0/
 file/get/2828340314?profile=original
ATTENDEE;ROLE=REQ-PARTICIPANT;PARTSTAT=ACCEPTED;RSVP=TRUE;CN="ayman wa
 gdy":https://www.grasshopper3d.com/profile/aymanwagdy
END:VEVENT
END:VCALENDAR
