BEGIN:VCALENDAR
PRODID:NingEventWidget-v1
VERSION:2.0
METHOD:PUBLISH
BEGIN:VTIMEZONE
TZID:America/Boise
X-LIC-LOCATION:America/Boise
BEGIN:DAYLIGHT
TZOFFSETFROM:-0700
TZOFFSETTO:-0600
TZNAME:MDT
DTSTART:19700308T020000
RRULE:FREQ=YEARLY;BYMONTH=3;BYDAY=2SU
END:DAYLIGHT
BEGIN:STANDARD
TZOFFSETFROM:-0600
TZOFFSETTO:-0700
TZNAME:MST
DTSTART:19701101T020000
RRULE:FREQ=YEARLY;BYMONTH=11;BYDAY=1SU
END:STANDARD
END:VTIMEZONE
BEGIN:VEVENT
UID:2985220:Event:1373874
DTSTAMP:20260419T225212Z
SUMMARY:Grasshopper Introductory course
DESCRIPTION:This one-day course is an introduction to Grasshopper. Th
 e course is aimed at design professionals and proficient Rhino users w
 ith little or no prior experience of Grasshopper. The course will cove
 r the essentials needed to get you going with Grasshopper, at an acce
 lerated pace in an instructor-led environment.  \nThis course is run
  by our McNeel-accredited trainer and is tailored to your specific nee
 ds. There will be time set aside in the afternoon of the course to cov
 er your specific workflow design needs. Group size is kept small to e
 nsure personalized attention. \nTo book your seat, email cathy@simply
 rhino.com\n\nFor more information visit https://www.grasshopper3d.com/
 events/grasshopper-introductory-course
DTSTART;TZID=America/Boise:20151029T090000
DTEND;TZID=America/Boise:20151029T170000
CATEGORIES:course
LOCATION:Johannesburg, Dowerglen
WEBSITE:http://www.rhino3d.com/training/South_Africa?PageSpeed=noscrip
 t
URL:http://www.rhino3d.com/training/South_Africa?PageSpeed=noscript
CONTACT:+27829250643
ORGANIZER:Cathy Kelly (Simply Rhino Software SA)
ATTACH;FMTTYPE="image/jpeg":http://storage.ning.com/topology/rest/1.0/
 file/get/2829084297?profile=original
ATTENDEE;ROLE=REQ-PARTICIPANT;PARTSTAT=ACCEPTED;RSVP=TRUE;CN="Cathy Ke
 lly":https://www.grasshopper3d.com/profile/CathyKelly
END:VEVENT
END:VCALENDAR
