BEGIN:VCALENDAR
PRODID:NingEventWidget-v1
VERSION:2.0
METHOD:PUBLISH
BEGIN:VTIMEZONE
TZID:America/Boise
X-LIC-LOCATION:America/Boise
BEGIN:DAYLIGHT
TZOFFSETFROM:-0700
TZOFFSETTO:-0600
TZNAME:MDT
DTSTART:19700308T020000
RRULE:FREQ=YEARLY;BYMONTH=3;BYDAY=2SU
END:DAYLIGHT
BEGIN:STANDARD
TZOFFSETFROM:-0600
TZOFFSETTO:-0700
TZNAME:MST
DTSTART:19701101T020000
RRULE:FREQ=YEARLY;BYMONTH=11;BYDAY=1SU
END:STANDARD
END:VTIMEZONE
BEGIN:VEVENT
UID:2985220:Event:1362705
DTSTAMP:20260423T180119Z
SUMMARY:Grasshopper // Introduction to interfaces & Theroy Programing 
 oriented objects (POO)
DESCRIPTION:Understanding its interface and Grasshopper logic.\nDevelo
 ping and training with the basic process in Rhino.\n\nFor more informa
 tion visit https://www.grasshopper3d.com/events/grasshopper-introducti
 on-to-interfaces-theroy-programing-oriented
DTSTART;TZID=America/Boise:20151014T184500
DTEND;TZID=America/Boise:20151018T220000
CATEGORIES:grasshopper, trainings
LOCATION:SEED Studio // Barcelona
WEBSITE:https://www.google.es/maps/place/Carrer+d'Aribau,+24,+08011+Ba
 rcelona/@41.3868628,2.1615373,17z/data=!3m1!4b1!4m2!3m1!1s0x12a4a28c6f
 46f0e9:0x666ffdc99bb9798e?hl=es
URL:https://www.google.es/maps/place/Carrer+d'Aribau,+24,+08011+Barcel
 ona/@41.3868628,2.1615373,17z/data=!3m1!4b1!4m2!3m1!1s0x12a4a28c6f46f0
 e9:0x666ffdc99bb9798e?hl=es
CONTACT:+34 930 13 00 76
ORGANIZER;CN="SEED studio":https://www.grasshopper3d.com/profile/SEEDK
 RFR
ATTACH;FMTTYPE="image/jpeg":http://storage.ning.com/topology/rest/1.0/
 file/get/2829062617?profile=original
ATTENDEE;ROLE=REQ-PARTICIPANT;PARTSTAT=ACCEPTED;RSVP=TRUE;CN="SEED stu
 dio":https://www.grasshopper3d.com/profile/SEEDKRFR
END:VEVENT
END:VCALENDAR
