BEGIN:VCALENDAR
PRODID:NingEventWidget-v1
VERSION:2.0
METHOD:PUBLISH
BEGIN:VTIMEZONE
TZID:America/Boise
X-LIC-LOCATION:America/Boise
BEGIN:DAYLIGHT
TZOFFSETFROM:-0700
TZOFFSETTO:-0600
TZNAME:MDT
DTSTART:19700308T020000
RRULE:FREQ=YEARLY;BYMONTH=3;BYDAY=2SU
END:DAYLIGHT
BEGIN:STANDARD
TZOFFSETFROM:-0600
TZOFFSETTO:-0700
TZNAME:MST
DTSTART:19701101T020000
RRULE:FREQ=YEARLY;BYMONTH=11;BYDAY=1SU
END:STANDARD
END:VTIMEZONE
BEGIN:VEVENT
UID:2985220:Event:1391134
DTSTAMP:20260423T180110Z
SUMMARY:GRASSHOPPER: INTERACTION
DESCRIPTION:DATES:27-29 NOVEMBERPRICE:for students of WAPB 430 PLN, f
 or others 800 PLN/180EURPROGRAM:Grasshopper Recap -list, -point clou
 ds,Introduction to Swarm Inteligence and Emergence,-Firefly with Kinec
 t/interaction,-loops wtih Anemone,-boids and Boids Library,-graphical 
 representation in Squid, -form making with interactionsBRIEF: Flock b
 ehavior, control, environment and neighborhood. Swarm simulated by env
 ironmental and physical triggers. Chaos, self – organization and ord
 er behavior phenomenon.GOAL: interactive installation simulating flock
  behavior based on the participants movement tracked with Kinect Skele
 tal Tracking.TUTORS:Ján Pernecký graduated from architecture at the 
 Faculty of Architecture in Bratislava and Acedemy of Fine arts and des
 ign, Bratislava, studied at the Arkitekturskolan, KTH, Stockholm and d
 ie Angewandte/Urban Strategies/Excessive, Vienna. Honorable mention at
  the Shinkenchiku residential competition and D. Jurkovic prize. In 20
 10 established rese arch ngo, supporting and creating original theory 
 and research in architecture. Expert in creative programming, form mak
 ing aProcessing and Grasshopper®. Maker of the Boid flocking library 
 for Grasshopper®. Teaching creative programming at independent worksh
 ops in SK, CZ, IT,AT, SK, CZ, PL. Conducting independent research on t
 he theory of digital architecture (genetic algorithms, generative desi
 gn, design by behavior, augmented reality)Creator and curator of Askin
 g Architecture (2012) - Slovak and Czech national pavilion at 13th arc
 hitecture exhibition of la Biennale di Venezia. Published comprehensiv
 e articles on digital architecture in Romboid and Enter. Published a c
 hapter on Richness and evolutionary methods in the Compact city, compe
 ndium book, (cz), 2011. Mentioned for Asking architecture and publishe
 d a transcript of a discussion on the Digital architecture at Czech an
 d Slovak architecture 1971-2011, anthology by Monika Mitášová and J
 iří Ševčík, 2014.Adrian Krężlik, architect and computational de
 signer, he worked for Zaha Hadid Architects, FR-EE Fernando Romero and
  Michel Rojkind where he was responsible for digital design and parame
 tring architecture. Since 2014 he runs Architektura Parametryczna intr
 oducing Innovative Technologies to architecture and design.Kacper Radz
 iszewski, designer and parametric design consultant. He teaches in PRO
 TOLAB at Sopot School of Applied Arts. Co-organizer and tutor at numer
 ous workshops at Technical University of Gdańsk. He runs Architektura
  Parametryczna.\nSIGN UP:parametryczna@gmail.com\n \n\n\n\n\n\n\nhttp
 s://www.facebook.com/events/102157156807055/\n\nFor more information v
 isit https://www.grasshopper3d.com/events/grasshopper-interaction
DTSTART;TZID=America/Boise:20151127T000000
DTEND;TZID=America/Boise:20151129T235900
CATEGORIES:workshops
LOCATION:Białystok, Poland
WEBSITE:
URL:
CONTACT:
ORGANIZER;CN="Adrian Krezlik":https://www.grasshopper3d.com/profile/Ad
 rianKrezlik
ATTACH;FMTTYPE="image/jpeg":http://storage.ning.com/topology/rest/1.0/
 file/get/2829117753?profile=original
ATTENDEE;ROLE=REQ-PARTICIPANT;PARTSTAT=ACCEPTED;RSVP=TRUE;CN="Khalil T
 arek":https://www.grasshopper3d.com/profile/KhalilTarek
ATTENDEE;ROLE=REQ-PARTICIPANT;PARTSTAT=ACCEPTED;RSVP=TRUE;CN="Adrian K
 rezlik":https://www.grasshopper3d.com/profile/AdrianKrezlik
END:VEVENT
END:VCALENDAR
