BEGIN:VCALENDAR
PRODID:NingEventWidget-v1
VERSION:2.0
METHOD:PUBLISH
BEGIN:VTIMEZONE
TZID:America/Boise
X-LIC-LOCATION:America/Boise
BEGIN:DAYLIGHT
TZOFFSETFROM:-0700
TZOFFSETTO:-0600
TZNAME:MDT
DTSTART:19700308T020000
RRULE:FREQ=YEARLY;BYMONTH=3;BYDAY=2SU
END:DAYLIGHT
BEGIN:STANDARD
TZOFFSETFROM:-0600
TZOFFSETTO:-0700
TZNAME:MST
DTSTART:19701101T020000
RRULE:FREQ=YEARLY;BYMONTH=11;BYDAY=1SU
END:STANDARD
END:VTIMEZONE
BEGIN:VEVENT
UID:2985220:Event:74856
DTSTAMP:20260423T194827Z
SUMMARY:Grasshopper- Geometry Gym- kangaroo workshop in Tehran(septemb
 er 2010)
DESCRIPTION:Grasshoper- Geometry Gym- kangaroo workshop in Tehran 2010
 \nThis event, hold in Tehran Iran , focused on innovative design tools
 , technologies, and methodologies that allow and encourage Biological 
 forms of architectural and structural expression, forms that are radic
 ally changing the built environment.\n\nThe workshop theme “Biomimet
 ic Residential Tower” will focus on development of concept and desig
 n. This new issues arising from generative design technology in highly
  informative and thought-provoking presentations and discussions.\nwor
 kshop is a one-day agenda comprised of “brief explanation” about t
 hese softwares preceded by a two-day workshop.\n\nWorkshop – Septemb
 er 16-17\nAnyone of academia and professional practice, as well as the
  bright students can attend. The workshop provide a field for who came
  together for two intensive days of design and collaboration.\n\nWorks
 hop Software\nWorkshop participants use Grasshoper- Geometry Gym- kang
 aroo– Rhino’s generative design software – as their platform.\n\
 nnotice: only attendents in the Attending list of grasshopper3d can re
 gister Workshop.\n\nWorkshop fee: 100$\n\n///////Dear Attendents, Plea
 se Complete The Registration form And Email to behrange@gmail.com\n\n\
 nregistration form download link:\nhttp://www.grasshopper3d.com/photo/
 grasshopper-geometry-gym?context=latest\n\nFor more information visit 
 https://www.grasshopper3d.com/events/grasshopper-geometry-gym
DTSTART;TZID=America/Boise:20100929T000000
DTEND;TZID=America/Boise:20101001T235900
CATEGORIES:experimantation, practice, and, design, methods, in, grassh
 oper-, geometry, gym-, kangaroo
LOCATION:Tehran, Iran
WEBSITE:http://morpho-ecology.blogspot.com/2010/08/grasshoper-geometry
 -gym-kangaroo.html
URL:http://morpho-ecology.blogspot.com/2010/08/grasshoper-geometry-gym
 -kangaroo.html
CONTACT:0098-9364526609
ORGANIZER;CN="Dr Behrang Eghbali":https://www.grasshopper3d.com/profil
 e/behrangeghbali
ATTACH;FMTTYPE="image/jpeg":http://storage.ning.com/topology/rest/1.0/
 file/get/2827714365?profile=original
ATTENDEE;ROLE=REQ-PARTICIPANT;PARTSTAT=ACCEPTED;RSVP=TRUE;CN=harmik:ht
 tps://www.grasshopper3d.com/profile/harmik
ATTENDEE;ROLE=REQ-PARTICIPANT;PARTSTAT=ACCEPTED;RSVP=TRUE;CN=MHS:https
 ://www.grasshopper3d.com/profile/Asaei
ATTENDEE;ROLE=REQ-PARTICIPANT;PARTSTAT=ACCEPTED;RSVP=TRUE;CN=elham:htt
 ps://www.grasshopper3d.com/profile/elham
ATTENDEE;ROLE=REQ-PARTICIPANT;PARTSTAT=ACCEPTED;RSVP=TRUE;CN="Amin Bah
 rami":https://www.grasshopper3d.com/profile/AminBahrami
ATTENDEE;ROLE=REQ-PARTICIPANT;PARTSTAT=ACCEPTED;RSVP=TRUE;CN="amirali 
 amirakbari":https://www.grasshopper3d.com/profile/amiraliamirakbari
ATTENDEE;ROLE=REQ-PARTICIPANT;PARTSTAT=ACCEPTED;RSVP=TRUE;CN=Mariam:ht
 tps://www.grasshopper3d.com/profile/MaryamMirsoltani
ATTENDEE;ROLE=REQ-PARTICIPANT;PARTSTAT=ACCEPTED;RSVP=TRUE;CN=soroush:h
 ttps://www.grasshopper3d.com/profile/soroush
ATTENDEE;ROLE=REQ-PARTICIPANT;PARTSTAT=ACCEPTED;RSVP=TRUE;CN="kaveh ke
 rdegari":https://www.grasshopper3d.com/profile/kavehkerdegari
ATTENDEE;ROLE=REQ-PARTICIPANT;PARTSTAT=ACCEPTED;RSVP=TRUE;CN="Dr Behra
 ng Eghbali":https://www.grasshopper3d.com/profile/behrangeghbali
ATTENDEE;ROLE=REQ-PARTICIPANT;PARTSTAT=TENTATIVE;RSVP=TRUE;CN=ardi:htt
 ps://www.grasshopper3d.com/profile/ardi
ATTENDEE;ROLE=REQ-PARTICIPANT;PARTSTAT=TENTATIVE;RSVP=TRUE;CN="Rasha K
 iani":https://www.grasshopper3d.com/profile/RashaKiani
ATTENDEE;ROLE=REQ-PARTICIPANT;PARTSTAT=TENTATIVE;RSVP=TRUE;CN="Mehrad 
 Mahnia":https://www.grasshopper3d.com/profile/MehradMahnia
ATTENDEE;ROLE=REQ-PARTICIPANT;PARTSTAT=TENTATIVE;RSVP=TRUE;CN="Mohamma
 dreza Abedi":https://www.grasshopper3d.com/profile/MohammadrezaAbedi
END:VEVENT
END:VCALENDAR
