BEGIN:VCALENDAR
PRODID:NingEventWidget-v1
VERSION:2.0
METHOD:PUBLISH
BEGIN:VTIMEZONE
TZID:America/Boise
X-LIC-LOCATION:America/Boise
BEGIN:DAYLIGHT
TZOFFSETFROM:-0700
TZOFFSETTO:-0600
TZNAME:MDT
DTSTART:19700308T020000
RRULE:FREQ=YEARLY;BYMONTH=3;BYDAY=2SU
END:DAYLIGHT
BEGIN:STANDARD
TZOFFSETFROM:-0600
TZOFFSETTO:-0700
TZNAME:MST
DTSTART:19701101T020000
RRULE:FREQ=YEARLY;BYMONTH=11;BYDAY=1SU
END:STANDARD
END:VTIMEZONE
BEGIN:VEVENT
UID:2985220:Event:1710767
DTSTAMP:20260422T071022Z
SUMMARY:Grasshopper General Workshops
DESCRIPTION:Are you interested in gaining Parametric competency to pus
 h your design skills to the next level?Are you ready to learn a very e
 xciting and powerful tool that will take your ideas and concepts to a 
 whole new realm?\nThis Parametric Design General Workshop will provide
  you with the necessary knowledge and ability to use Grasshopper, a fr
 ee visual programming plugin in Rhinoceros. The workshop will also inc
 lude a hands on parametric project.\nPlace are limited, reserve your t
 icket at:https://www.eventbrite.de/e/parametric-design-general-worksho
 p-for-beginners-16-hours-tickets-32809329588\n\nFor more information v
 isit https://www.grasshopper3d.com/events/grasshopper-general-workshop
 s-2
DTSTART;TZID=America/Boise:20170402T100000
DTEND;TZID=America/Boise:20170423T140000
CATEGORIES:workshop
LOCATION:FabLab Berlin
WEBSITE:https://www.google.de/maps/place/Fab+Lab+Berlin/@52.5299391,13
 .4158004,17z/data=!3m1!4b1!4m5!3m4!1s0x47a84e1d41b7171d:0x7586bcafdd18
 fcdb!8m2!3d52.5299359!4d13.4179891?hl=en
URL:https://www.google.de/maps/place/Fab+Lab+Berlin/@52.5299391,13.415
 8004,17z/data=!3m1!4b1!4m5!3m4!1s0x47a84e1d41b7171d:0x7586bcafdd18fcdb
 !8m2!3d52.5299359!4d13.4179891?hl=en
CONTACT:
ORGANIZER;CN="Wassef Dabboussi":https://www.grasshopper3d.com/profile/
 WassefDabboussi
ATTACH;FMTTYPE="image/jpeg":http://storage.ning.com/topology/rest/1.0/
 file/get/2829690772?profile=original
ATTENDEE;ROLE=REQ-PARTICIPANT;PARTSTAT=ACCEPTED;RSVP=TRUE;CN="Wassef D
 abboussi":https://www.grasshopper3d.com/profile/WassefDabboussi
END:VEVENT
END:VCALENDAR
