BEGIN:VCALENDAR
PRODID:NingEventWidget-v1
VERSION:2.0
METHOD:PUBLISH
BEGIN:VTIMEZONE
TZID:America/Boise
X-LIC-LOCATION:America/Boise
BEGIN:DAYLIGHT
TZOFFSETFROM:-0700
TZOFFSETTO:-0600
TZNAME:MDT
DTSTART:19700308T020000
RRULE:FREQ=YEARLY;BYMONTH=3;BYDAY=2SU
END:DAYLIGHT
BEGIN:STANDARD
TZOFFSETFROM:-0600
TZOFFSETTO:-0700
TZNAME:MST
DTSTART:19701101T020000
RRULE:FREQ=YEARLY;BYMONTH=11;BYDAY=1SU
END:STANDARD
END:VTIMEZONE
BEGIN:VEVENT
UID:2985220:Event:59823
DTSTAMP:20260424T195116Z
SUMMARY:Grasshopper Event at The AA School - London
DESCRIPTION:David Rutten, Daniel Piker & Jon Mirtschin to present at A
 rchitectural Association, London\n\n1. David Rutten - Grasshopper\n\n2
 . Daniel Piker - Kangaroo a live physics engine for Rhino 3d and Grass
 hopper.\n\n3. Jon Mirtschin of Geometry Gym Ltd - Geodesic domes, mini
 mal surfaces, mesh relaxing, tessellation and parametric steel frame m
 odelling.\n\nThere will also be some additional work presented by curr
 ent students at the AA School.\n\nThank you to Marco Poletto is helpin
 g this happen.\n\nRegistration Details:\n\nPlease send an email to fio
 nuala@simplyrhino.co.uk she will reply to confirm your place. You must
  have an email confirmation in order to attend this event\n\nOr Call u
 s on +44 (0)208 498 9900\n\nSpace is limited.\n\n\nThere is no charge 
 to attend this event.\n\nFull event details here:\n\nhttp://www.simply
 rhino.co.uk/about/AA.html\n\nFor more information visit https://www.gr
 asshopper3d.com/events/grasshopper-event-at-the-aa
DTSTART;TZID=America/Boise:20100512T130000
DTEND;TZID=America/Boise:20100512T150000
CATEGORIES:presentation, "q&a"
LOCATION:Architectural Association London
WEBSITE:http://www.aaschool.ac.uk/AALIFE/CONTACTS/contacts.php
URL:http://www.aaschool.ac.uk/AALIFE/CONTACTS/contacts.php
CONTACT:0208 498 9900
ORGANIZER;CN="Paul Cowell":https://www.grasshopper3d.com/profile/PaulC
 owell
ATTACH;FMTTYPE="image/jpeg":http://storage.ning.com/topology/rest/1.0/
 file/get/2827698060?profile=original
ATTENDEE;ROLE=REQ-PARTICIPANT;PARTSTAT=ACCEPTED;RSVP=TRUE;CN=Parmdeep:
 https://www.grasshopper3d.com/profile/Parmdeep
ATTENDEE;ROLE=REQ-PARTICIPANT;PARTSTAT=ACCEPTED;RSVP=TRUE;CN=Deepthi:h
 ttps://www.grasshopper3d.com/profile/DeepthiVijaykumar
ATTENDEE;ROLE=REQ-PARTICIPANT;PARTSTAT=ACCEPTED;RSVP=TRUE;CN="Ushma Sa
 mani":https://www.grasshopper3d.com/profile/UshmaSamani
ATTENDEE;ROLE=REQ-PARTICIPANT;PARTSTAT=ACCEPTED;RSVP=TRUE;CN="Walter Z
 esk":https://www.grasshopper3d.com/profile/WalterZesk
ATTENDEE;ROLE=REQ-PARTICIPANT;PARTSTAT=ACCEPTED;RSVP=TRUE;CN="Tushar S
 harma":https://www.grasshopper3d.com/profile/TusharSharma
ATTENDEE;ROLE=REQ-PARTICIPANT;PARTSTAT=ACCEPTED;RSVP=TRUE;CN="elif erd
 ine":https://www.grasshopper3d.com/profile/eliferdine
ATTENDEE;ROLE=REQ-PARTICIPANT;PARTSTAT=ACCEPTED;RSVP=TRUE;CN="Jon Mirt
 schin":https://www.grasshopper3d.com/profile/JonMirtschin
ATTENDEE;ROLE=REQ-PARTICIPANT;PARTSTAT=ACCEPTED;RSVP=TRUE;CN="Paul Cow
 ell":https://www.grasshopper3d.com/profile/PaulCowell
ATTENDEE;ROLE=REQ-PARTICIPANT;PARTSTAT=TENTATIVE;RSVP=TRUE;CN="Wieland
  Schmidt":https://www.grasshopper3d.com/profile/WielandSchmidt
END:VEVENT
END:VCALENDAR
