BEGIN:VCALENDAR
PRODID:NingEventWidget-v1
VERSION:2.0
METHOD:PUBLISH
BEGIN:VTIMEZONE
TZID:America/Boise
X-LIC-LOCATION:America/Boise
BEGIN:DAYLIGHT
TZOFFSETFROM:-0700
TZOFFSETTO:-0600
TZNAME:MDT
DTSTART:19700308T020000
RRULE:FREQ=YEARLY;BYMONTH=3;BYDAY=2SU
END:DAYLIGHT
BEGIN:STANDARD
TZOFFSETFROM:-0600
TZOFFSETTO:-0700
TZNAME:MST
DTSTART:19701101T020000
RRULE:FREQ=YEARLY;BYMONTH=11;BYDAY=1SU
END:STANDARD
END:VTIMEZONE
BEGIN:VEVENT
UID:2985220:Event:449467
DTSTAMP:20260421T034528Z
SUMMARY:Grasshopper Course in Aarhus
DESCRIPTION:Denne workshop vil gøre det muligt for arkitekter og desi
 gnere, at arbejde med former baseret på parametriske, generative algo
 ritmer. Vi starter med en teoretisk og funktionel forståelse af grass
 hoppers interface og dykker derefter ned i mere komplekse parametriske
  modeller. Vi vil desuden arbejde med forskellige funktioner, der hjæ
 lper med til at gøre modeller mere responsive og interaktive.\n \nEf
 ter kurset vil du have/kende til:\n\n\nBasale inputs og parametre, pun
 kter og vektorer, og små geometriske eksempler\n\n\nEn forståelse fo
 r Grasshoppers interface og teorien bag den visuelle programmering\n\n
 \nKendskab til og forståelse af de væsentligste komponenttyper i Gra
 sshopper\n\n\nMatematiske principper, der giver mulighed for sortering
  gennem sandt/falsk og mindre-end/større-end udsagn\n\n\nDataflow: mi
 dlertidige og permanente data\n\n\nForene og styre data-input, samt en
  dybere forståelse af Grasshoppers datastyring.\n\n\nStyring af lange
  data-lister og data-træer i Grasshopper\n\n\nEksempler på parametri
 sk geometri, som feks. attractorpoints\n\n\nBrugen af Grasshopper som 
 et panel værktøj, der giver mulighed for at beklæde overflader med 
 paneler baseret på underindelinger, gradienter og attractor points\n\
 n\nforberedelse af egne definitioner, med fortsat fokus på projektets
  responsibilitet.\n\n\n \n\nFor more information visit https://www.gr
 asshopper3d.com/events/grasshopper-course-in-aarhus
DTSTART;TZID=America/Boise:20111031T090000
DTEND;TZID=America/Boise:20111102T153000
CATEGORIES:grasshopper, class, training, workshop
LOCATION:Aarhus, Denmark
WEBSITE:http://www.oooja.dk
URL:http://www.oooja.dk
CONTACT:+45 61 33 83 42
ORGANIZER:OOOJA
ATTACH;FMTTYPE="image/jpeg":http://storage.ning.com/topology/rest/1.0/
 file/get/2827848230?profile=original
ATTENDEE;ROLE=REQ-PARTICIPANT;PARTSTAT=ACCEPTED;RSVP=TRUE;CN="Jan Buth
 ke":https://www.grasshopper3d.com/profile/OOOJA
END:VEVENT
END:VCALENDAR
