BEGIN:VCALENDAR
PRODID:NingEventWidget-v1
VERSION:2.0
METHOD:PUBLISH
BEGIN:VTIMEZONE
TZID:America/Boise
X-LIC-LOCATION:America/Boise
BEGIN:DAYLIGHT
TZOFFSETFROM:-0700
TZOFFSETTO:-0600
TZNAME:MDT
DTSTART:19700308T020000
RRULE:FREQ=YEARLY;BYMONTH=3;BYDAY=2SU
END:DAYLIGHT
BEGIN:STANDARD
TZOFFSETFROM:-0600
TZOFFSETTO:-0700
TZNAME:MST
DTSTART:19701101T020000
RRULE:FREQ=YEARLY;BYMONTH=11;BYDAY=1SU
END:STANDARD
END:VTIMEZONE
BEGIN:VEVENT
UID:2985220:Event:21360
DTSTAMP:20260424T125307Z
SUMMARY:Grasshopper Cloud Event - NY - FULL
DESCRIPTION:Discover everything Grasshopper at the first Grasshopper C
 loud event in New York. As his last stop before returning to Europe, D
 avid Rutten will show and discuss what's coming next in Grasshopper. G
 il and Ronnie of StudioMode and David Fano of DesignReform will also b
 e attending.\n\nRSVP has been closed on this event. Space is limited t
 o 50 people. Please attend if you do RSVP.\n\nAgenda -\n12:00-1:00 Arr
 ival, informal discussion\n1:00 - 1:15 Introductions\n1:15 - 2:00 Proj
 ect presentation 1 (30 minutes + 15 min QA) - David Lee - Clemson - 3D
  pattern environments using volumetric proxies.\n2:00 - 2:45 Project P
 resentation 2 (30 minutes + 15 min QA) - P. Casey Mahon - Organic Abst
 ractions (30 minutes + 15 min QA)\n2:45 - 3:45 David Rutten - New work
  in GH (30 min QA)\n3:45 - 4:30 Sameer Kumar AIA - KPF - Project prese
 ntation 3 (30 minutes + 15 min QA)\n4:30 - 5:15 Chris Wilkins - Clemso
 n - Urban Renewal and parametric urban development studies in Grasshop
 per.\n5:15 - 6:00 David Rutten - Scripting in GH (15 min QA)\n\nAfter 
 6:00 conversations may move down the street for more discussion.\n\nIf
  you would like to present your project at the Cloud please email: sco
 ttd@mcneel.com\n\nFor more information visit https://www.grasshopper3d
 .com/events/grasshopper-cloud-event-ny
DTSTART;TZID=America/Boise:20091026T000000
DTEND;TZID=America/Boise:20091026T180000
CATEGORIES:user, group, meeting
LOCATION:Buro Happold, NY Office
WEBSITE:http://www.burohappold.com/BH/CNT_OFF_newyork.aspx
URL:http://www.burohappold.com/BH/CNT_OFF_newyork.aspx
CONTACT:212 616 0379
ORGANIZER:Anthony Buccellato on site and Scott Davidson
ATTACH;FMTTYPE="image/jpeg":http://storage.ning.com/topology/rest/1.0/
 file/get/2827655472?profile=original
ATTENDEE;ROLE=REQ-PARTICIPANT;PARTSTAT=ACCEPTED;RSVP=TRUE;CN="walter c
 hefitz":https://www.grasshopper3d.com/profile/walterchefitz
ATTENDEE;ROLE=REQ-PARTICIPANT;PARTSTAT=ACCEPTED;RSVP=TRUE;CN="Shane Bu
 rger":https://www.grasshopper3d.com/profile/ShaneBurger
ATTENDEE;ROLE=REQ-PARTICIPANT;PARTSTAT=ACCEPTED;RSVP=TRUE;CN="Chris Wi
 lkins":https://www.grasshopper3d.com/profile/ChrisWilkins
ATTENDEE;ROLE=REQ-PARTICIPANT;PARTSTAT=ACCEPTED;RSVP=TRUE;CN="dave lee
 ":https://www.grasshopper3d.com/profile/davelee
ATTENDEE;ROLE=REQ-PARTICIPANT;PARTSTAT=ACCEPTED;RSVP=TRUE;CN="Bohseung
  Kong":https://www.grasshopper3d.com/profile/BohseungKong
ATTENDEE;ROLE=REQ-PARTICIPANT;PARTSTAT=ACCEPTED;RSVP=TRUE;CN=secretguy
 :https://www.grasshopper3d.com/profile/secretguy
ATTENDEE;ROLE=REQ-PARTICIPANT;PARTSTAT=ACCEPTED;RSVP=TRUE;CN="John Gul
 liford":https://www.grasshopper3d.com/profile/JohnGulliford
ATTENDEE;ROLE=REQ-PARTICIPANT;PARTSTAT=ACCEPTED;RSVP=TRUE;CN="Damien A
 lomar":https://www.grasshopper3d.com/profile/DamienAlomar
ATTENDEE;ROLE=REQ-PARTICIPANT;PARTSTAT=ACCEPTED;RSVP=TRUE;CN="Jonathan
  Alexander":https://www.grasshopper3d.com/profile/JonathanAlexander
ATTENDEE;ROLE=REQ-PARTICIPANT;PARTSTAT=ACCEPTED;RSVP=TRUE;CN="Daniel C
 ho":https://www.grasshopper3d.com/profile/DanielCho
ATTENDEE;ROLE=REQ-PARTICIPANT;PARTSTAT=ACCEPTED;RSVP=TRUE;CN="Casey Wo
 ng":https://www.grasshopper3d.com/profile/CaseyWong
ATTENDEE;ROLE=REQ-PARTICIPANT;PARTSTAT=ACCEPTED;RSVP=TRUE;CN="Ted Ngai
 ":https://www.grasshopper3d.com/profile/TedNgai
ATTENDEE;ROLE=REQ-PARTICIPANT;PARTSTAT=ACCEPTED;RSVP=TRUE;CN="Chad Car
 penter":https://www.grasshopper3d.com/profile/ChadCarpenter
ATTENDEE;ROLE=REQ-PARTICIPANT;PARTSTAT=ACCEPTED;RSVP=TRUE;CN="Eric Mei
 er":https://www.grasshopper3d.com/profile/EricMeier
ATTENDEE;ROLE=REQ-PARTICIPANT;PARTSTAT=ACCEPTED;RSVP=TRUE;CN="Nenad St
 jepanovic":https://www.grasshopper3d.com/profile/NenadStjepanovic
ATTENDEE;ROLE=REQ-PARTICIPANT;PARTSTAT=ACCEPTED;RSVP=TRUE;CN="Sameer K
 umar":https://www.grasshopper3d.com/profile/SameerKumar
ATTENDEE;ROLE=REQ-PARTICIPANT;PARTSTAT=ACCEPTED;RSVP=TRUE;CN="James Co
 leman":https://www.grasshopper3d.com/profile/JamesColeman
ATTENDEE;ROLE=REQ-PARTICIPANT;PARTSTAT=ACCEPTED;RSVP=TRUE;CN="Joy Li":
 https://www.grasshopper3d.com/profile/YuehJoyKo
ATTENDEE;ROLE=REQ-PARTICIPANT;PARTSTAT=ACCEPTED;RSVP=TRUE;CN="vincent 
 appel":https://www.grasshopper3d.com/profile/vincentappel545
ATTENDEE;ROLE=REQ-PARTICIPANT;PARTSTAT=ACCEPTED;RSVP=TRUE;CN=Heli:http
 s://www.grasshopper3d.com/profile/Heli
ATTENDEE;ROLE=REQ-PARTICIPANT;PARTSTAT=ACCEPTED;RSVP=TRUE;CN="Yianni A
 ndrikopoulos":https://www.grasshopper3d.com/profile/YianniAndrikopoulo
 s990
ATTENDEE;ROLE=REQ-PARTICIPANT;PARTSTAT=ACCEPTED;RSVP=TRUE;CN="Steve Sa
 nderson":https://www.grasshopper3d.com/profile/SteveSanderson
ATTENDEE;ROLE=REQ-PARTICIPANT;PARTSTAT=ACCEPTED;RSVP=TRUE;CN="Samir S.
  Shah":https://www.grasshopper3d.com/profile/SamirSShah
ATTENDEE;ROLE=REQ-PARTICIPANT;PARTSTAT=ACCEPTED;RSVP=TRUE;CN="Hamilton
  Hadden":https://www.grasshopper3d.com/profile/HamiltonHadden
ATTENDEE;ROLE=REQ-PARTICIPANT;PARTSTAT=ACCEPTED;RSVP=TRUE;CN=CBHFX:htt
 ps://www.grasshopper3d.com/profile/CBHFX
ATTENDEE;ROLE=REQ-PARTICIPANT;PARTSTAT=ACCEPTED;RSVP=TRUE;CN="Mauricio
  Rodriguez":https://www.grasshopper3d.com/profile/MauricioRodriguez
ATTENDEE;ROLE=REQ-PARTICIPANT;PARTSTAT=ACCEPTED;RSVP=TRUE;CN="surawat 
 hant":https://www.grasshopper3d.com/profile/surawathant
ATTENDEE;ROLE=REQ-PARTICIPANT;PARTSTAT=ACCEPTED;RSVP=TRUE;CN="yunhee j
 eong":https://www.grasshopper3d.com/profile/yunheejeong
ATTENDEE;ROLE=REQ-PARTICIPANT;PARTSTAT=ACCEPTED;RSVP=TRUE;CN="Michael 
 Dziubek":https://www.grasshopper3d.com/profile/MichaelDziubek
ATTENDEE;ROLE=REQ-PARTICIPANT;PARTSTAT=ACCEPTED;RSVP=TRUE;CN="J. Pyeat
 t":https://www.grasshopper3d.com/profile/JPyeatt
ATTENDEE;ROLE=REQ-PARTICIPANT;PARTSTAT=ACCEPTED;RSVP=TRUE;CN="Phil Dav
 is":https://www.grasshopper3d.com/profile/PhilDavis
ATTENDEE;ROLE=REQ-PARTICIPANT;PARTSTAT=ACCEPTED;RSVP=TRUE;CN=Pachano:h
 ttps://www.grasshopper3d.com/profile/Pachano
ATTENDEE;ROLE=REQ-PARTICIPANT;PARTSTAT=ACCEPTED;RSVP=TRUE;CN="P. Casey
  Mahon":https://www.grasshopper3d.com/profile/PCaseyMahon
ATTENDEE;ROLE=REQ-PARTICIPANT;PARTSTAT=ACCEPTED;RSVP=TRUE;CN=ferdinand
 :https://www.grasshopper3d.com/profile/ferdinand
ATTENDEE;ROLE=REQ-PARTICIPANT;PARTSTAT=ACCEPTED;RSVP=TRUE;CN="Andrew L
 yon":https://www.grasshopper3d.com/profile/AndrewLyon
ATTENDEE;ROLE=REQ-PARTICIPANT;PARTSTAT=ACCEPTED;RSVP=TRUE;CN="Luke Lu"
 :https://www.grasshopper3d.com/profile/LukeLu
ATTENDEE;ROLE=REQ-PARTICIPANT;PARTSTAT=ACCEPTED;RSVP=TRUE;CN="Andrzej 
 Zarzycki":https://www.grasshopper3d.com/profile/AndrzejZarzycki
ATTENDEE;ROLE=REQ-PARTICIPANT;PARTSTAT=ACCEPTED;RSVP=TRUE;CN="chris la
 sch":https://www.grasshopper3d.com/profile/chrislasch
ATTENDEE;ROLE=REQ-PARTICIPANT;PARTSTAT=ACCEPTED;RSVP=TRUE;CN="Brian Sl
 ocum":https://www.grasshopper3d.com/profile/BrianSlocum
ATTENDEE;ROLE=REQ-PARTICIPANT;PARTSTAT=ACCEPTED;RSVP=TRUE;CN="Ronnie P
 arsons":https://www.grasshopper3d.com/profile/RonnieParsons
ATTENDEE;ROLE=REQ-PARTICIPANT;PARTSTAT=ACCEPTED;RSVP=TRUE;CN="Sean Bau
 mes":https://www.grasshopper3d.com/profile/SeanBaumes
ATTENDEE;ROLE=REQ-PARTICIPANT;PARTSTAT=ACCEPTED;RSVP=TRUE;CN="Dan Stub
 e":https://www.grasshopper3d.com/profile/DanStube
ATTENDEE;ROLE=REQ-PARTICIPANT;PARTSTAT=ACCEPTED;RSVP=TRUE;CN="Charles 
 Portelli":https://www.grasshopper3d.com/profile/CharlesPortelli
ATTENDEE;ROLE=REQ-PARTICIPANT;PARTSTAT=ACCEPTED;RSVP=TRUE;CN="Zach Dow
 ney":https://www.grasshopper3d.com/profile/ZachDowney
ATTENDEE;ROLE=REQ-PARTICIPANT;PARTSTAT=ACCEPTED;RSVP=TRUE;CN=rhl2111:h
 ttps://www.grasshopper3d.com/profile/rhl2111
ATTENDEE;ROLE=REQ-PARTICIPANT;PARTSTAT=ACCEPTED;RSVP=TRUE;CN="GIL AKOS
 ":https://www.grasshopper3d.com/profile/GILAKOS
ATTENDEE;ROLE=REQ-PARTICIPANT;PARTSTAT=ACCEPTED;RSVP=TRUE;CN=taz:https
 ://www.grasshopper3d.com/profile/taz
ATTENDEE;ROLE=REQ-PARTICIPANT;PARTSTAT=ACCEPTED;RSVP=TRUE;CN="CarloMar
 ia Ciampoli":https://www.grasshopper3d.com/profile/CarloMariaCiampoli
ATTENDEE;ROLE=REQ-PARTICIPANT;PARTSTAT=ACCEPTED;RSVP=TRUE;CN="Scott Da
 vidson":https://www.grasshopper3d.com/profile/ScottDavidson
ATTENDEE;ROLE=REQ-PARTICIPANT;PARTSTAT=ACCEPTED;RSVP=TRUE;CN="Anthony 
 Buccellato":https://www.grasshopper3d.com/profile/AnthonyBuccellato
ATTENDEE;ROLE=REQ-PARTICIPANT;PARTSTAT=TENTATIVE;RSVP=TRUE;CN="Spyrido
 n Kaprinis":https://www.grasshopper3d.com/profile/SpyridonKaprinis
ATTENDEE;ROLE=REQ-PARTICIPANT;PARTSTAT=TENTATIVE;RSVP=TRUE;CN=CarlosE:
 https://www.grasshopper3d.com/profile/CarlosE
ATTENDEE;ROLE=REQ-PARTICIPANT;PARTSTAT=TENTATIVE;RSVP=TRUE;CN="Jihoon 
 Kim":https://www.grasshopper3d.com/profile/JihoonKim
ATTENDEE;ROLE=REQ-PARTICIPANT;PARTSTAT=TENTATIVE;RSVP=TRUE;CN="Kyriako
 s Chatziparaskevas":https://www.grasshopper3d.com/profile/KyriakosChat
 ziparaskevas
ATTENDEE;ROLE=REQ-PARTICIPANT;PARTSTAT=TENTATIVE;RSVP=TRUE;CN="Andrea 
 Tocchini":https://www.grasshopper3d.com/profile/Andrea
END:VEVENT
END:VCALENDAR
