BEGIN:VCALENDAR
PRODID:NingEventWidget-v1
VERSION:2.0
METHOD:PUBLISH
BEGIN:VTIMEZONE
TZID:America/Boise
X-LIC-LOCATION:America/Boise
BEGIN:DAYLIGHT
TZOFFSETFROM:-0700
TZOFFSETTO:-0600
TZNAME:MDT
DTSTART:19700308T020000
RRULE:FREQ=YEARLY;BYMONTH=3;BYDAY=2SU
END:DAYLIGHT
BEGIN:STANDARD
TZOFFSETFROM:-0600
TZOFFSETTO:-0700
TZNAME:MST
DTSTART:19701101T020000
RRULE:FREQ=YEARLY;BYMONTH=11;BYDAY=1SU
END:STANDARD
END:VTIMEZONE
BEGIN:VEVENT
UID:2985220:Event:872281
DTSTAMP:20260423T105039Z
SUMMARY:Grasshopper Beginner-Advanced Course
DESCRIPTION:Grasshopper Beginner-Advanced Course that includes:\n\n  
 Basics of Rhino & Grasshopper\n  Urban models\n  Architectural Model
 s\n  Geometric and Organic models\n  Advanced topics \n\nFor more i
 nformation visit https://www.grasshopper3d.com/events/grasshopper-begi
 nner-advanced-course
DTSTART;TZID=America/Boise:20130701T160000
DTEND;TZID=America/Boise:20130721T190000
CATEGORIES:grasshopper, beginner-advanced, course
LOCATION:Nasser City
WEBSITE:http://www.me-archs.com
URL:http://www.me-archs.com
CONTACT:0100 5026854
ORGANIZER;CN="Mohammed Ezzat":https://www.grasshopper3d.com/profile/Mo
 hammedEzzat
ATTACH;FMTTYPE="image/jpeg":http://storage.ning.com/topology/rest/1.0/
 file/get/2828310846?profile=original
ATTENDEE;ROLE=REQ-PARTICIPANT;PARTSTAT=ACCEPTED;RSVP=TRUE;CN="Mohammed
  Ezzat":https://www.grasshopper3d.com/profile/MohammedEzzat
END:VEVENT
END:VCALENDAR
