BEGIN:VCALENDAR
PRODID:NingEventWidget-v1
VERSION:2.0
METHOD:PUBLISH
BEGIN:VTIMEZONE
TZID:America/Boise
X-LIC-LOCATION:America/Boise
BEGIN:DAYLIGHT
TZOFFSETFROM:-0700
TZOFFSETTO:-0600
TZNAME:MDT
DTSTART:19700308T020000
RRULE:FREQ=YEARLY;BYMONTH=3;BYDAY=2SU
END:DAYLIGHT
BEGIN:STANDARD
TZOFFSETFROM:-0600
TZOFFSETTO:-0700
TZNAME:MST
DTSTART:19701101T020000
RRULE:FREQ=YEARLY;BYMONTH=11;BYDAY=1SU
END:STANDARD
END:VTIMEZONE
BEGIN:VEVENT
UID:2985220:Event:914259
DTSTAMP:20260424T165812Z
SUMMARY:Grasshopper beginner-advanced Course, Egypt, Cairo
DESCRIPTION:a beginner-advanced course that covers:\n\nintroduction to
  Rhino\nbasics of grasshopper\nArchitectural & Urban models\nGeometric
 al & Organic models\nAdvanced topics\n\n\nFor more information visit h
 ttps://www.grasshopper3d.com/events/grasshopper-beginner-advanced-cour
 se-egypt-cairo
DTSTART;TZID=America/Boise:20130928T130000
DTEND;TZID=America/Boise:20131005T190000
CATEGORIES:grasshopper, course
LOCATION:Egypt, Cairo, Nasser City
WEBSITE:http://www.me-archs.com
URL:http://www.me-archs.com
CONTACT:0100 5026854
ORGANIZER:Architect/Mohammed Ezzat
ATTACH;FMTTYPE="image/jpeg":http://storage.ning.com/topology/rest/1.0/
 file/get/2828310846?profile=original
ATTENDEE;ROLE=REQ-PARTICIPANT;PARTSTAT=ACCEPTED;RSVP=TRUE;CN="Mohammed
  Ezzat":https://www.grasshopper3d.com/profile/MohammedEzzat
END:VEVENT
END:VCALENDAR
