BEGIN:VCALENDAR
PRODID:NingEventWidget-v1
VERSION:2.0
METHOD:PUBLISH
BEGIN:VTIMEZONE
TZID:America/Boise
X-LIC-LOCATION:America/Boise
BEGIN:DAYLIGHT
TZOFFSETFROM:-0700
TZOFFSETTO:-0600
TZNAME:MDT
DTSTART:19700308T020000
RRULE:FREQ=YEARLY;BYMONTH=3;BYDAY=2SU
END:DAYLIGHT
BEGIN:STANDARD
TZOFFSETFROM:-0600
TZOFFSETTO:-0700
TZNAME:MST
DTSTART:19701101T020000
RRULE:FREQ=YEARLY;BYMONTH=11;BYDAY=1SU
END:STANDARD
END:VTIMEZONE
BEGIN:VEVENT
UID:2985220:Event:1922576
DTSTAMP:20260423T211737Z
SUMMARY:Grasshopper at McNeel Miami
DESCRIPTION:\r\n\r\n\r\n\r\n\r\nBREAKING NEWS - Grasshopper included 
 with Rhino\r\n\r\n\r\n\r\n\r\n\r\nIt's time to learn how to use it! Do
 n't miss the opportunity of this 2-day Grasshopper Training at McNeel 
 Miami.\r\n \r\nDate: August 15 & 16Time: 8:00am - 5:00pmPrice: US$
 495\r\nCourse Description:\r\n\r\nThis workshop will give students a f
 unctional understanding of Grasshopper and generative data driven desi
 gn. This will allow them to build on this understanding into more adva
 nced projects of their own including design optimization and cutting m
 odels on a laser machine. Basic knowledge of Rhino is required.\r\nDet
 ails...\r\nLocation:McNeel Miami1538 NW 89th CourtDoral, FL 33172Unite
 d States\r\nRegister here!\r\n\r\n\n\nFor more information visit https
 ://www.grasshopper3d.com/events/grasshopper-at-mcneel-miami
DTSTART;TZID=America/Boise:20180815T080000
DTEND;TZID=America/Boise:20180816T170000
CATEGORIES:on, site, grasshopper
LOCATION:McNeel Miami
WEBSITE:http://www.mcneelmiami.com
URL:http://www.mcneelmiami.com
CONTACT:3055134445
ORGANIZER:Jackie Nasser: jackie@mcneel.com
ATTACH;FMTTYPE="image/jpeg":http://storage.ning.com/topology/rest/1.0/
 file/get/2830054007?profile=original
ATTENDEE;ROLE=REQ-PARTICIPANT;PARTSTAT=ACCEPTED;RSVP=TRUE;CN="Andres G
 onzalez":https://www.grasshopper3d.com/profile/AndresGonzalez
END:VEVENT
END:VCALENDAR
