BEGIN:VCALENDAR
PRODID:NingEventWidget-v1
VERSION:2.0
METHOD:PUBLISH
BEGIN:VTIMEZONE
TZID:America/Boise
X-LIC-LOCATION:America/Boise
BEGIN:DAYLIGHT
TZOFFSETFROM:-0700
TZOFFSETTO:-0600
TZNAME:MDT
DTSTART:19700308T020000
RRULE:FREQ=YEARLY;BYMONTH=3;BYDAY=2SU
END:DAYLIGHT
BEGIN:STANDARD
TZOFFSETFROM:-0600
TZOFFSETTO:-0700
TZNAME:MST
DTSTART:19701101T020000
RRULE:FREQ=YEARLY;BYMONTH=11;BYDAY=1SU
END:STANDARD
END:VTIMEZONE
BEGIN:VEVENT
UID:2985220:Event:3430
DTSTAMP:20260423T230344Z
SUMMARY:Grasshopper
DESCRIPTION:Grasshopper\n\nThis workshop will give students a function
 al understanding of the Grasshopper. This will allow them to build on 
 this understanding into more advanced projects of their own including 
 design optimization with RhinoNEST 2.0 and creating their models on a 
 cutting plotter. Rhino Level 1 training is required to be able to take
  this training.\n\nFor more information visit https://www.grasshopper3
 d.com/events/grasshopper-1
DTSTART;TZID=America/Boise:20090522T000000
DTEND;TZID=America/Boise:20090522T235900
CATEGORIES:hands, on
LOCATION:McNeel Miami
WEBSITE:http://www2.mcneel.com/training/results_by_title.asp?McNeelOnl
 y=1&show_by=class&ProductID=1
URL:http://www2.mcneel.com/training/results_by_title.asp?McNeelOnly=1&
 show_by=class&ProductID=1
CONTACT:305 513 4445
ORGANIZER:Jackie Nasser
ATTACH;FMTTYPE="image/jpeg":http://storage.ning.com/topology/rest/1.0/
 file/get/2827637534?profile=original
ATTENDEE;ROLE=REQ-PARTICIPANT;PARTSTAT=ACCEPTED;RSVP=TRUE;CN="Andrew R
 eynolds":https://www.grasshopper3d.com/profile/AndrewReynolds
ATTENDEE;ROLE=REQ-PARTICIPANT;PARTSTAT=ACCEPTED;RSVP=TRUE;CN="Andres G
 onzalez":https://www.grasshopper3d.com/profile/AndresGonzalez
END:VEVENT
END:VCALENDAR
