BEGIN:VCALENDAR
PRODID:NingEventWidget-v1
VERSION:2.0
METHOD:PUBLISH
BEGIN:VTIMEZONE
TZID:America/Boise
X-LIC-LOCATION:America/Boise
BEGIN:DAYLIGHT
TZOFFSETFROM:-0700
TZOFFSETTO:-0600
TZNAME:MDT
DTSTART:19700308T020000
RRULE:FREQ=YEARLY;BYMONTH=3;BYDAY=2SU
END:DAYLIGHT
BEGIN:STANDARD
TZOFFSETFROM:-0600
TZOFFSETTO:-0700
TZNAME:MST
DTSTART:19701101T020000
RRULE:FREQ=YEARLY;BYMONTH=11;BYDAY=1SU
END:STANDARD
END:VTIMEZONE
BEGIN:VEVENT
UID:2985220:Event:623689
DTSTAMP:20260424T153742Z
SUMMARY:Grashoppers in Erher | Lacute in Eter
DESCRIPTION:1:1 AWESOMENESS\n \nThis summer we are coming back with a
 nother challenge:\n \nGRASSHOPPERS IN ETHER - parametric design and d
 igital fabrication training | Timisoara, RO\n(for the first time the d
 igital flag gets pinned in Temeswar)\n\n7 days of training + exhibitio
 n and party!\n\nDuring the the first 3 days we have prepared a trainin
 g course where the participants will get acquainted with the basic not
 ions and elementary algorithms in Grasshopper. Within the following 4 
 days you will have to apply your general knowledge in order to design 
 and produce a 1:1 mockup of the digital model.\n\nIt’s going to be m
 assive!  \n\n\n \n_ORGANIZERS AND TUTORS: \n \nF-O-R\nOana Simiones
 cu\nAlex Cozma\n \nDtArchLab + Idz\nIonut Anton\nDana Tanase\n \nT_A
 _I \nIrina Bogdan\n \n_HOSTS:\nEduKube Multimedia Center\n \nFind ou
 t how to apply here and make sure to keep an eye on our blog. You can
 d also keep yourself updated by following our facebook page.\n \nSee 
 you at EduKube, Timisoara on the 16th of July!\n\n\nFor more informati
 on visit https://www.grasshopper3d.com/events/grashoppers-in-erher-lac
 ute-in-eter
DTSTART;TZID=America/Boise:20120716T090000
DTEND;TZID=America/Boise:20120722T210000
CATEGORIES:workshop
LOCATION:Edukube Multimedia Center
WEBSITE:http://lacusteineter.wordpress.com/
URL:http://lacusteineter.wordpress.com/
CONTACT:
ORGANIZER:FOR(Oana imionesu, Alex Cozma), DtArchLab & Idz(Ionut Anton,
  Dana Tanase), T_A_I : Digital design and fabrication methods(Irina Bo
 gdan),  Kube Labs @ edukube
ATTACH;FMTTYPE="image/jpeg":http://storage.ning.com/topology/rest/1.0/
 file/get/2828040261?profile=original
ATTENDEE;ROLE=REQ-PARTICIPANT;PARTSTAT=ACCEPTED;RSVP=TRUE;CN="Irina Bo
 gdan":https://www.grasshopper3d.com/profile/IrinaMihaelaBogdan
END:VEVENT
END:VCALENDAR
