BEGIN:VCALENDAR
PRODID:NingEventWidget-v1
VERSION:2.0
METHOD:PUBLISH
BEGIN:VTIMEZONE
TZID:America/Boise
X-LIC-LOCATION:America/Boise
BEGIN:DAYLIGHT
TZOFFSETFROM:-0700
TZOFFSETTO:-0600
TZNAME:MDT
DTSTART:19700308T020000
RRULE:FREQ=YEARLY;BYMONTH=3;BYDAY=2SU
END:DAYLIGHT
BEGIN:STANDARD
TZOFFSETFROM:-0600
TZOFFSETTO:-0700
TZNAME:MST
DTSTART:19701101T020000
RRULE:FREQ=YEARLY;BYMONTH=11;BYDAY=1SU
END:STANDARD
END:VTIMEZONE
BEGIN:VEVENT
UID:2985220:Event:1116875
DTSTAMP:20260424T010215Z
SUMMARY:Graph modelling with Grasshopper3d - Introduction to data flow
  programming via visual graph editing
DESCRIPTION:Participants of the workshop are introduced to the followi
 ng topics in a hands-on approach: Concept of a graphical algorithm edi
 tor (dataflow programming paradigm) Grasshopper zoomable user interfac
 e, customizable appearance, settings Difference between parameters (da
 ta types) and components (data processing) Creating, editing and analy
 zing geometry via node networks, i.e. points, vectors, lines, curves, 
 surfaces, boundary-representations, meshes Structuring data using list
 s and trees Various ways of combining data structures (matching) Essen
 tial vector maths for generative design Generating both 3d and 2d geom
 etry by combining various sources: referenced geometry from an active 
 Rhino session, user interface components and numerical input, images a
 nd geometry from external files Practical examples to utilizing groups
 , clusters, user-objects and custom components Content and workload on
  day two is adaptable to individual pace and interests of participants
 . Prerequisites Participants should bring their laptop with following 
 software preinstalled: Rhinoceros3d V5 SR9 Grasshopper 0.9.0075 (free)
  Prerequisites: Participants should bring their laptop with following 
 software preinstalled: - Rhinoceros3d V5 SR9 - Grasshopper 0.9.0075 (f
 ree) Participants of the workshop do not require any programming exper
 ience, however should be familiar Rhinoceros3d.\n\nFor more informatio
 n visit https://www.grasshopper3d.com/events/graph-modelling-with-gras
 shopper3d-introduction-to-data-flow
DTSTART;TZID=America/Boise:20140908T000000
DTEND;TZID=America/Boise:20140909T235900
CATEGORIES:workshop
LOCATION:eCAADe 2014 conference at Northumbria University, Newcastle U
 K
WEBSITE:https://www.northumbria.ac.uk/about-us/news-events/events/2014
 /09/ecaade-2014-conference/workshops/
URL:https://www.northumbria.ac.uk/about-us/news-events/events/2014/09/
 ecaade-2014-conference/workshops/
CONTACT:
ORGANIZER:eCAADe 2014 conference, workshop instructed by Peter Mehrten
 s
ATTACH;FMTTYPE="image/jpeg":http://storage.ning.com/topology/rest/1.0/
 file/get/2828632341?profile=original
ATTENDEE;ROLE=REQ-PARTICIPANT;PARTSTAT=ACCEPTED;RSVP=TRUE;CN="Peter Me
 hrtens":https://www.grasshopper3d.com/profile/PeterMehrtens
END:VEVENT
END:VCALENDAR
