BEGIN:VCALENDAR
PRODID:NingEventWidget-v1
VERSION:2.0
METHOD:PUBLISH
BEGIN:VTIMEZONE
TZID:America/Boise
X-LIC-LOCATION:America/Boise
BEGIN:DAYLIGHT
TZOFFSETFROM:-0700
TZOFFSETTO:-0600
TZNAME:MDT
DTSTART:19700308T020000
RRULE:FREQ=YEARLY;BYMONTH=3;BYDAY=2SU
END:DAYLIGHT
BEGIN:STANDARD
TZOFFSETFROM:-0600
TZOFFSETTO:-0700
TZNAME:MST
DTSTART:19701101T020000
RRULE:FREQ=YEARLY;BYMONTH=11;BYDAY=1SU
END:STANDARD
END:VTIMEZONE
BEGIN:VEVENT
UID:2985220:Event:260217
DTSTAMP:20260420T035412Z
SUMMARY:GJD3D Work-Shop in Miami, Florida
DESCRIPTION:During this 3 day Work-Shop, you will learn to customize R
 hino + Grasshopper + Brazil to accelerate your generative modeling and
  designs.\n \nCost for Professionals: 695.00 US$\nCost for Students a
 nd Teacher: 395.00 US$\n \nThese are just few of the definitions you 
 would be able to write-code after the work-shop:\n \n1) http://www.g
 jd3d.com/video/gjd-005-square-ring\n \n2) http://www.gjd3d.com/video
 /gjd-015-cutters\n \n3) http://www.gjd3d.com/video/gjd-4-prong-head-
 definition\n \n4) http://www.gjd3d.com/video/gjd-002-wireflex\n \n5
 ) http://www.gjd3d.com/video/my-broken-umbrella\n \nAlso, we will ha
 ve a 3-Hour-Block to create a studio quality rendering template with B
 razil. You have to look professional with your Renders too!\n\n\nFor m
 ore information visit https://www.grasshopper3d.com/events/gjd3d-works
 hop-in-miami
DTSTART;TZID=America/Boise:20110801T000000
DTEND;TZID=America/Boise:20110803T235900
CATEGORIES:jewelry
LOCATION:McNeel Miami
WEBSITE:http://www.GJD3D.com
URL:http://www.GJD3D.com
CONTACT:305 513 4445
ORGANIZER:Jackie Nasser, jackie@mcneel.com
ATTACH;FMTTYPE="image/jpeg":http://storage.ning.com/topology/rest/1.0/
 file/get/2827797601?profile=original
ATTENDEE;ROLE=REQ-PARTICIPANT;PARTSTAT=ACCEPTED;RSVP=TRUE;CN="Andres G
 onzalez":https://www.grasshopper3d.com/profile/AndresGonzalez
END:VEVENT
END:VCALENDAR
