BEGIN:VCALENDAR
PRODID:NingEventWidget-v1
VERSION:2.0
METHOD:PUBLISH
BEGIN:VTIMEZONE
TZID:America/Boise
X-LIC-LOCATION:America/Boise
BEGIN:DAYLIGHT
TZOFFSETFROM:-0700
TZOFFSETTO:-0600
TZNAME:MDT
DTSTART:19700308T020000
RRULE:FREQ=YEARLY;BYMONTH=3;BYDAY=2SU
END:DAYLIGHT
BEGIN:STANDARD
TZOFFSETFROM:-0600
TZOFFSETTO:-0700
TZNAME:MST
DTSTART:19701101T020000
RRULE:FREQ=YEARLY;BYMONTH=11;BYDAY=1SU
END:STANDARD
END:VTIMEZONE
BEGIN:VEVENT
UID:2985220:Event:576401
DTSTAMP:20260419T172519Z
SUMMARY:GJD3D Work-Shop in London, UK at SimplyRhino.
DESCRIPTION:This 4 day workshop delivered by McNeel Miami will provide
  students and professionals with a functional understanding of Rhino a
 nd Grasshopper concepts, necessary to obtain effective algorithmic and
  computational knowledge to model parametric 3D shapes.\nFor this part
 icular class, the participants will be using Jewellery and Industrial 
 Design models as their main 3D geometry. This class is suitable for al
 l users of Rhino, RhinoGold, RhinoJewel, Matrix3D or any other Rhino b
 ased solution for Jewellery Design.\n\nInstructors:\n\nAndres Gonzalez
 , Mcneel Miami\nArthur Mamou-Mani, SimplyRhino\n\n----------\nThis cou
 rse is for the design professional who wants to efficiently learn the 
 concepts and features of Grasshopper and Generative Jewellery Design m
 ethods at an accelerated pace in an instructor-lead environment.\nCour
 se Requirements\n• Trainees should be conversant with the • modeli
 ng environment in Rhino. The first • part of the workshop refreshes 
 this content.\n• Knowledge of basic simple maths.\n• Knowledge of 
 Windows XP/Windows 7\nThis class is being run at the Goldsmiths Centre
 , London.\n\nwww.goldsmiths-centre.org\n\nDownload the full course det
 ails in PDF format.\n\n----------\n\nTo book a place on this course co
 ntact:\n\nfionuala@simplyrhino.co.uk\n\njackie@mcneel.com\n\nFor more 
 information visit https://www.grasshopper3d.com/events/gjd3d-work-shop
 -in-london-uk-at-simplyrhino
DTSTART;TZID=America/Boise:20120521T000000
DTEND;TZID=America/Boise:20120524T235900
CATEGORIES:jewelry
LOCATION:http://www.goldsmiths-centre.org
WEBSITE:http://www.simplyrhino.co.uk/rhinotraining/generativejewellery
 .html
URL:http://www.simplyrhino.co.uk/rhinotraining/generativejewellery.htm
 l
CONTACT:UK Rhino Info on 0208 498 9900
ORGANIZER:SimplyRhino and Mcneel Miami
ATTACH;FMTTYPE="image/jpeg":http://storage.ning.com/topology/rest/1.0/
 file/get/2827988509?profile=original
ATTENDEE;ROLE=REQ-PARTICIPANT;PARTSTAT=ACCEPTED;RSVP=TRUE;CN="Arthur M
 amou-Mani":https://www.grasshopper3d.com/profile/arthurmamoumani
ATTENDEE;ROLE=REQ-PARTICIPANT;PARTSTAT=ACCEPTED;RSVP=TRUE;CN="Andres G
 onzalez":https://www.grasshopper3d.com/profile/AndresGonzalez
ATTENDEE;ROLE=REQ-PARTICIPANT;PARTSTAT=TENTATIVE;RSVP=TRUE;CN="simona 
 tannino":https://www.grasshopper3d.com/profile/simonatannino
END:VEVENT
END:VCALENDAR
