BEGIN:VCALENDAR
PRODID:NingEventWidget-v1
VERSION:2.0
METHOD:PUBLISH
BEGIN:VTIMEZONE
TZID:America/Boise
X-LIC-LOCATION:America/Boise
BEGIN:DAYLIGHT
TZOFFSETFROM:-0700
TZOFFSETTO:-0600
TZNAME:MDT
DTSTART:19700308T020000
RRULE:FREQ=YEARLY;BYMONTH=3;BYDAY=2SU
END:DAYLIGHT
BEGIN:STANDARD
TZOFFSETFROM:-0600
TZOFFSETTO:-0700
TZNAME:MST
DTSTART:19701101T020000
RRULE:FREQ=YEARLY;BYMONTH=11;BYDAY=1SU
END:STANDARD
END:VTIMEZONE
BEGIN:VEVENT
UID:2985220:Event:1561943
DTSTAMP:20260423T025104Z
SUMMARY:GIS to Grasshopper Workflow in Los Angeles
DESCRIPTION:Geographic information systems (GIS) allows us to visualiz
 e, generate, and analyze geotagged data in order to better understand 
 relationships, patterns, and trends in the natural and built environme
 nt. Advancements in GIS technologies have influenced almost every imag
 inable discipline in the past three decades. The fields of architectur
 e, urban design and urban planning are amongst the fields that have be
 en drastically influenced by the application of GIS technologies and t
 hinking.\nThis one-day workshop introduces the GIS to Grasshopper work
 flow to the participants. Through the introduction of series of plugin
 s such as Meerkat GIS, Elk, and Mosquito, we will understand how va
 rious types of GIS data can be accessed and utilized in Grasshopper.\n
 Topics Covered\n\nWhat is GIS?\nWhat are GIS data types.\nWhere to loo
 k for GIS data.\nHow to export vector data from QGIS.\nWhat are projec
 tion planes.\nHow to work with Meerkat.\nHow to work with Elk.\nHow to
  work with Mosquito.\n\nAbout the Instructors\nBiayna Bogosian and J
 ason King are co-founders of Somewhere Something and have over two 
 decades of combined experience in architecture, design technology, and
  teaching. We strive to make our workshops fun and informative, helpin
 g participants integrate new design technologies into their workflows.
 \n\nFor more information visit https://www.grasshopper3d.com/events/gi
 s-in-grasshopper-in-los-angeles
DTSTART;TZID=America/Boise:20160828T100000
DTEND;TZID=America/Boise:20160828T160000
CATEGORIES:workshop, "los angeles", gis, "somewhere something"
LOCATION:Los Angeles
WEBSITE:http://www.somewheresomething.com/gis-gh/
URL:http://www.somewheresomething.com/gis-gh/
CONTACT:323.382.8939
ORGANIZER;CN="Somewhere Something":https://www.grasshopper3d.com/profi
 le/SomewhereSomething
ATTACH;FMTTYPE="image/jpeg":http://storage.ning.com/topology/rest/1.0/
 file/get/2829422019?profile=original
ATTENDEE;ROLE=REQ-PARTICIPANT;PARTSTAT=ACCEPTED;RSVP=TRUE;CN="Somewher
 e Something":https://www.grasshopper3d.com/profile/SomewhereSomething
END:VEVENT
END:VCALENDAR
