BEGIN:VCALENDAR
PRODID:NingEventWidget-v1
VERSION:2.0
METHOD:PUBLISH
BEGIN:VTIMEZONE
TZID:America/Boise
X-LIC-LOCATION:America/Boise
BEGIN:DAYLIGHT
TZOFFSETFROM:-0700
TZOFFSETTO:-0600
TZNAME:MDT
DTSTART:19700308T020000
RRULE:FREQ=YEARLY;BYMONTH=3;BYDAY=2SU
END:DAYLIGHT
BEGIN:STANDARD
TZOFFSETFROM:-0600
TZOFFSETTO:-0700
TZNAME:MST
DTSTART:19701101T020000
RRULE:FREQ=YEARLY;BYMONTH=11;BYDAY=1SU
END:STANDARD
END:VTIMEZONE
BEGIN:VEVENT
UID:2985220:Event:1045623
DTSTAMP:20260423T201149Z
SUMMARY:Intro to Grasshopper Online (Mornings) at McNeel Online
DESCRIPTION:Intro to Grasshopper Online (Mornings) at McNeel Online\n4
 /29/2014 - 5/2/2014 Orientation: 9:00am-10:30am Classes: 9:00am-12:30p
 m (PDT)\nSeattle, Washington US$195\nCourse Description: This course i
 s for design professionals who are looking to efficiently learn concep
 ts and features of Grasshopper at an accelerated pace in an instructor
 -led online environment.  Instructor Andres Gonzalez will get you sta
 rted with generative modeling in Rhino 5 using the Grasshopper add-on.
  The advantages of using Grasshopper in preliminary design and concept
  development come to life in numerous real-life examples.   An outlin
 e of the class material is available here.  The class will be conduct
 ed in English using the GoToTraining software.  You will need Rhino 5
 .0 for Windows or the Rhino 5.0 for Windows Eval installed.  You will
  also need the latest build of Grasshopper.  Using the Rhino for OSX 
 WIP is not acceptable for this class.   Click on Details below to rev
 iew the class outline. Details...\nLocation: McNeel Online (map) ONLIN
 E COURSE All times listed are PDT. Seattle, WA  United States\nTo Reg
 ister: e-mail: Jody Mills phone: (206) 634-4571 https://student.goto
 training.com/r/8729003377455640320\n\nFor more information visit https
 ://www.grasshopper3d.com/events/gh01
DTSTART;TZID=America/Boise:20140429T090000
DTEND;TZID=America/Boise:20140502T123000
CATEGORIES:on, line, grasshopper
LOCATION:McNeel Miami's RhinoFabLab
WEBSITE:http://www.RhinoFabStudio.com
URL:http://www.RhinoFabStudio.com
CONTACT:305 513 4445 McNeel Miami
ORGANIZER:Jackie Nasser, jackie@mcneel.com 305 513 4445
ATTACH;FMTTYPE="image/jpeg":http://storage.ning.com/topology/rest/1.0/
 file/get/2828004182?profile=original
ATTENDEE;ROLE=REQ-PARTICIPANT;PARTSTAT=ACCEPTED;RSVP=TRUE;CN="Andres G
 onzalez":https://www.grasshopper3d.com/profile/AndresGonzalez
END:VEVENT
END:VCALENDAR
