BEGIN:VCALENDAR
PRODID:NingEventWidget-v1
VERSION:2.0
METHOD:PUBLISH
BEGIN:VTIMEZONE
TZID:America/Boise
X-LIC-LOCATION:America/Boise
BEGIN:DAYLIGHT
TZOFFSETFROM:-0700
TZOFFSETTO:-0600
TZNAME:MDT
DTSTART:19700308T020000
RRULE:FREQ=YEARLY;BYMONTH=3;BYDAY=2SU
END:DAYLIGHT
BEGIN:STANDARD
TZOFFSETFROM:-0600
TZOFFSETTO:-0700
TZNAME:MST
DTSTART:19701101T020000
RRULE:FREQ=YEARLY;BYMONTH=11;BYDAY=1SU
END:STANDARD
END:VTIMEZONE
BEGIN:VEVENT
UID:2985220:Event:832921
DTSTAMP:20260423T214001Z
SUMMARY:.GH {THINKING} GRASSHOPPER . University of Alicante / SPAIN
DESCRIPTION:Thinking Grasshopper Workshop . 20 Hours.\nUniversity of A
 licante / SPAIN\n\nLet's think in grasshopper, from scratch, in a crea
 tive way, but sharp and accurate at the same time, in a contemporary a
 rchitectural context.\nWe will work with 5 projects that meet the cond
 itions to be re-thinked nowadays in parametrical terms. { FOA : World 
 Trade Center / MAD OFFICE : 800M Tower / TOYO ITO : Relaxation Park / 
 FOSTER & PARTNERS : Gherkin Tower / FREE : Soumaya Museum }\nWe will p
 roduce dynamic objects defined by parameters and modified in realtime.
 \nWe will learn to discretize, facet and panel in a non homogeneous wa
 y.\nWe will work with restrictions to determine our shapes, obtaining 
 unpredictable results.\nAnd we will take the control of what we produc
 e : by measuring , visualizing and optimizing our parametric forms.\n\
 n2 Groups / 30 students max :\nThursdays : 25 Apr ,02 ,09 ,16 & 23 May
 \nSaturdays : 27 Apr ,04 ,11, 18 & 25 May\n\nFee : 73 € / student\n\
 nFor more information visit https://www.grasshopper3d.com/events/gh-th
 inking-grasshopper-university-of-alicante-spain
DTSTART;TZID=America/Boise:20130425T130000
DTEND;TZID=America/Boise:20130524T130000
CATEGORIES:architecture, workshop
LOCATION:University of Alicante, SPAIN
WEBSITE:http://blogs.ua.es/glac/2013/04/16/gh-thinking-grasshopper/
URL:http://blogs.ua.es/glac/2013/04/16/gh-thinking-grasshopper/
CONTACT:+34 965 90 36 54
ORGANIZER;CN="Carlos Bañón":https://www.grasshopper3d.com/profile/Ca
 rlosBanon
ATTACH;FMTTYPE="image/jpeg":http://storage.ning.com/topology/rest/1.0/
 file/get/2828263598?profile=original
ATTENDEE;ROLE=REQ-PARTICIPANT;PARTSTAT=ACCEPTED;RSVP=TRUE;CN="Carlos B
 añón":https://www.grasshopper3d.com/profile/CarlosBanon
END:VEVENT
END:VCALENDAR
