BEGIN:VCALENDAR
PRODID:NingEventWidget-v1
VERSION:2.0
METHOD:PUBLISH
BEGIN:VTIMEZONE
TZID:America/Boise
X-LIC-LOCATION:America/Boise
BEGIN:DAYLIGHT
TZOFFSETFROM:-0700
TZOFFSETTO:-0600
TZNAME:MDT
DTSTART:19700308T020000
RRULE:FREQ=YEARLY;BYMONTH=3;BYDAY=2SU
END:DAYLIGHT
BEGIN:STANDARD
TZOFFSETFROM:-0600
TZOFFSETTO:-0700
TZNAME:MST
DTSTART:19701101T020000
RRULE:FREQ=YEARLY;BYMONTH=11;BYDAY=1SU
END:STANDARD
END:VTIMEZONE
BEGIN:VEVENT
UID:2985220:Event:2217557
DTSTAMP:20260421T170949Z
SUMMARY:GH LIVE - MODELLAZIONE ALGORITMICA | Italiano
DESCRIPTION:Il live webinar “GH LIVE” intende fornire ai partecipa
 nti un’effettiva padronanza delle più avanzate tecniche di modellaz
 ione digitale, approfondendo le metodologie della modellazione algorit
 mica e parametrica nel campo dell’architettura e del design del prod
 otto. Il corso è rivolto a studenti e professionisti dei settori dell
 a progettazione architettonica, design, moda e gioielleria. L’evento
  sarà trasmesso live e sperimenterà innovative forme di interazione 
 tra docente e partecipanti. Le lezioni saranno registrate e sempre dis
 ponibili per gli iscritti. Sarà rilasciato un attestato di partecipaz
 ione.\nIl corso prevede una sessione di mentoring collettivo live di 3
  ore (in data da definire) durante la quale saranno condivise esperien
 ze ed indicazioni utili all'orientamento e crescita professionale risp
 ondendo, inoltre, a domande di interesse comune nell'ambito della prog
 ettazione avanzata. I partecipanti avranno possibilità di intervenire
  in diretta. \n\nFor more information visit https://www.grasshopper3d
 .com/events/gh-live-modellazione-algoritmica-italiano
DTSTART;TZID=America/Boise:20211204T140000
DTEND;TZID=America/Boise:20211205T190000
CATEGORIES:live, webinar
LOCATION:clickmeeting platform
WEBSITE:https://www.arturotedeschi.com/grasshopperwebinaritaliano
URL:https://www.arturotedeschi.com/grasshopperwebinaritaliano
CONTACT:
ORGANIZER;CN="Arturo Tedeschi":https://www.grasshopper3d.com/profile/A
 rturoTedeschi
ATTACH;FMTTYPE="image/jpeg":https://storage.ning.com/topology/rest/1.0
 /file/get/9788206498?profile=original
ATTENDEE;ROLE=REQ-PARTICIPANT;PARTSTAT=ACCEPTED;RSVP=TRUE;CN="Arturo T
 edeschi":https://www.grasshopper3d.com/profile/ArturoTedeschi
END:VEVENT
END:VCALENDAR
