BEGIN:VCALENDAR
PRODID:NingEventWidget-v1
VERSION:2.0
METHOD:PUBLISH
BEGIN:VTIMEZONE
TZID:America/Boise
X-LIC-LOCATION:America/Boise
BEGIN:DAYLIGHT
TZOFFSETFROM:-0700
TZOFFSETTO:-0600
TZNAME:MDT
DTSTART:19700308T020000
RRULE:FREQ=YEARLY;BYMONTH=3;BYDAY=2SU
END:DAYLIGHT
BEGIN:STANDARD
TZOFFSETFROM:-0600
TZOFFSETTO:-0700
TZNAME:MST
DTSTART:19701101T020000
RRULE:FREQ=YEARLY;BYMONTH=11;BYDAY=1SU
END:STANDARD
END:VTIMEZONE
BEGIN:VEVENT
UID:2985220:Event:1291214
DTSTAMP:20260424T030745Z
SUMMARY:Generative Morphologies Workshop Edition2.0
DESCRIPTION:DESCRIPTION/// GENERATIVE MORPHOLOGIES v2 is a workshop in
 tended for architects, students of Architecture and Arts, professional
  designers and artists who would like to learn new techniques of desig
 n, production and presentation; to feel the workflow of some of the to
 p ranked architectural universities. It is an opportunity for professi
 onals to join and exchange ideas with a team of world reputable tutors
 . GENERATIVE MORPHOLOGIES v2 will focus on exploring the potential of 
 parametrically driven generative processes and their combinations. By 
 those processes we mean growth algorithms, production systems, physics
  and chemistry based reactions. While some of those notions may be kno
 wn for decades, the usage of parametric software can ease merging and 
 crossing between them, therefore enriching them with new possibilities
 . One of the main ideas behind the workshop is to collide emergent pro
 cesses with deterministic systems and gain control over the final comp
 lex outcome of the algorithm, while maintaining its' valuable qualitie
 s.  DETAILS/// GENERATIVE MORPHOLOGIES v2 will use the Anemone plug-in
  as the main workflow driver. From the practical point of view, we wil
 l make sure to briefly cover the Grasshopper basics, dive deep into da
 ta tree concept, learn about simple scripting in GH, compare the usual
  GH workflow with looping paradigms (Anemone, Hoopsnake and Octopus) a
 nd much more. The goal is creating a project that each participant can
  proudly include in his portfolio using the state of the art programs 
 and techniques. For attending the workshop there is no previous softwa
 re experience required.  WHAT YOU WILL LEARN/// - Introduction in Rhin
 o 3D, Grasshopper - Introduction in Anemone, Hoopsnake, Octopus - Stra
 tegies for 3D printing  - Rendering with Vray - Discussions on projec
 t presentation  APPLICATION/// http://designmorphine.com/\n\nFor more 
 information visit https://www.grasshopper3d.com/events/generative-morp
 hologies-workshop-edition2-0
DTSTART;TZID=America/Boise:20150718T000000
DTEND;TZID=America/Boise:20150726T235900
CATEGORIES:workshop
LOCATION:Europe, Bulgaria
WEBSITE:https://www.google.bg/maps/place/ul.+%22Krakra%22+11,+1504+Sof
 ia/@42.6933992,23.3373484,17z/data=!3m1!4b1!4m2!3m1!1s0x40aa8576104aae
 f5:0x5266d80422e14a1d?hl=en
URL:https://www.google.bg/maps/place/ul.+%22Krakra%22+11,+1504+Sofia/@
 42.6933992,23.3373484,17z/data=!3m1!4b1!4m2!3m1!1s0x40aa8576104aaef5:0
 x5266d80422e14a1d?hl=en
CONTACT:+359 899 05 16 08
ORGANIZER:DesignMorphine
ATTACH;FMTTYPE="image/jpeg":http://storage.ning.com/topology/rest/1.0/
 file/get/2828949044?profile=original
ATTENDEE;ROLE=REQ-PARTICIPANT;PARTSTAT=ACCEPTED;RSVP=TRUE;CN="Pavlina 
 Vardoulaki":https://www.grasshopper3d.com/profile/PavlinaVardoulaki
ATTENDEE;ROLE=REQ-PARTICIPANT;PARTSTAT=ACCEPTED;RSVP=TRUE;CN="Konstant
 in Doganov":https://www.grasshopper3d.com/profile/KonstantinDoganov
ATTENDEE;ROLE=REQ-PARTICIPANT;PARTSTAT=ACCEPTED;RSVP=TRUE;CN="Mateusz 
 Zwierzycki":https://www.grasshopper3d.com/profile/MateuszZwierzycki
ATTENDEE;ROLE=REQ-PARTICIPANT;PARTSTAT=ACCEPTED;RSVP=TRUE;CN="Emilia M
 aneva":https://www.grasshopper3d.com/profile/EmiliaManeva
ATTENDEE;ROLE=REQ-PARTICIPANT;PARTSTAT=ACCEPTED;RSVP=TRUE;CN="Tsveteli
 na Georgieva":https://www.grasshopper3d.com/profile/TsvetelinaGeorgiev
 a
END:VEVENT
END:VCALENDAR
