BEGIN:VCALENDAR
PRODID:NingEventWidget-v1
VERSION:2.0
METHOD:PUBLISH
BEGIN:VTIMEZONE
TZID:America/Boise
X-LIC-LOCATION:America/Boise
BEGIN:DAYLIGHT
TZOFFSETFROM:-0700
TZOFFSETTO:-0600
TZNAME:MDT
DTSTART:19700308T020000
RRULE:FREQ=YEARLY;BYMONTH=3;BYDAY=2SU
END:DAYLIGHT
BEGIN:STANDARD
TZOFFSETFROM:-0600
TZOFFSETTO:-0700
TZNAME:MST
DTSTART:19701101T020000
RRULE:FREQ=YEARLY;BYMONTH=11;BYDAY=1SU
END:STANDARD
END:VTIMEZONE
BEGIN:VEVENT
UID:2985220:Event:177372
DTSTAMP:20260420T012629Z
SUMMARY:GENERATIVE MODELING - Taller FabLab.08
DESCRIPTION:\nLa base del curso es profundizar en la herramienta de di
 seño paramétrico y modelado computacional Grasshopper3D, así como e
 n su aplicación práctica en proyectos de arquitectura y en fabricaci
 ón digital.\n \nPara ello, el curso barrerá un amplio espectro de c
 ontenidos, empezando por la generación de geometría básica, pasando
  por transformaciones y manipulación de la misma, y profundizando en 
 el entendimiento y manipulación de las listas de datos. Se ilustrará
 n los contenidos con multitud de ejemplos, se tutorizarán online los 
 ejercicios semanales y se completará la formación con un proyecto fi
 nal personal, orientado a la fabricación digital.\n\nFor more informa
 tion visit https://www.grasshopper3d.com/events/generative-modeling-ta
 ller
DTSTART;TZID=America/Boise:20110317T150000
DTEND;TZID=America/Boise:20110521T150000
CATEGORIES:gh, workshop
LOCATION:Escuela Técnica Superior de Arquitectura - Sevilla
WEBSITE:http://htca.us.es/blogs/talleresfablab/2011/03/04/taller-fabla
 b08/
URL:http://htca.us.es/blogs/talleresfablab/2011/03/04/taller-fablab08/
CONTACT:
ORGANIZER;CN="Garcia del Castillo":https://www.grasshopper3d.com/profi
 le/JLX
ATTACH;FMTTYPE="image/jpeg":http://storage.ning.com/topology/rest/1.0/
 file/get/2827770966?profile=original
ATTENDEE;ROLE=REQ-PARTICIPANT;PARTSTAT=ACCEPTED;RSVP=TRUE;CN="Behnood 
 Eghbali":https://www.grasshopper3d.com/profile/behnoodi
ATTENDEE;ROLE=REQ-PARTICIPANT;PARTSTAT=ACCEPTED;RSVP=TRUE;CN="Luis Fra
 guada":https://www.grasshopper3d.com/profile/LuisFraguada
ATTENDEE;ROLE=REQ-PARTICIPANT;PARTSTAT=ACCEPTED;RSVP=TRUE;CN="Ángel L
 inares":https://www.grasshopper3d.com/profile/AngelLinares
ATTENDEE;ROLE=REQ-PARTICIPANT;PARTSTAT=ACCEPTED;RSVP=TRUE;CN="Garcia d
 el Castillo":https://www.grasshopper3d.com/profile/JLX
ATTENDEE;ROLE=REQ-PARTICIPANT;PARTSTAT=TENTATIVE;RSVP=TRUE;CN="Beltrá
 n Fernández Mariño":https://www.grasshopper3d.com/profile/BeltranFer
 nandezMarino
ATTENDEE;ROLE=REQ-PARTICIPANT;PARTSTAT=TENTATIVE;RSVP=TRUE;CN="Miguel 
 Villegas":https://www.grasshopper3d.com/profile/MiguelVillegas
END:VEVENT
END:VCALENDAR
