BEGIN:VCALENDAR
PRODID:NingEventWidget-v1
VERSION:2.0
METHOD:PUBLISH
BEGIN:VTIMEZONE
TZID:America/Boise
X-LIC-LOCATION:America/Boise
BEGIN:DAYLIGHT
TZOFFSETFROM:-0700
TZOFFSETTO:-0600
TZNAME:MDT
DTSTART:19700308T020000
RRULE:FREQ=YEARLY;BYMONTH=3;BYDAY=2SU
END:DAYLIGHT
BEGIN:STANDARD
TZOFFSETFROM:-0600
TZOFFSETTO:-0700
TZNAME:MST
DTSTART:19701101T020000
RRULE:FREQ=YEARLY;BYMONTH=11;BYDAY=1SU
END:STANDARD
END:VTIMEZONE
BEGIN:VEVENT
UID:2985220:Event:1078858
DTSTAMP:20260423T230301Z
SUMMARY:Generative Algorithms
DESCRIPTION:\nAbstractÂ Â After the advent of Industrialization , the 
 world is becoming rigid as it is made of standardized repetitive compo
 nents. In the due course , the little factor called â€œ uniqueness in 
 design â€œ was lost. We Strongly believe believe to bring back uniquen
 ess in our design through Generative Algorithmic process.\n\n\nMethodo
 logyÂ This workshop has been structured so as to break the â€œ monoton
 y â€œ in our design process. This is done through this lecture which o
 rients the participants towards parametric process . An insight is giv
 en into NURBS based modeling software - RHINOCEROS and visual scriptin
 g plugin â€“ GRASSHOPPER and other plugins which help them to develop 
 their realistic project in their field of focus.\n\n\nCourse Technical
  Modules\n\nIntroduction to NURBS based software RHINOCEROS\nBasic Lin
 ear modeling in Rhino using Record History â€“ Ribbing\nVisualization 
 and Analysis of a complex form from Rhino in Grasshopper\nManipulate L
 ists and Data Trees to construct a parametric model\nForm Finding thro
 ugh interesting Mathematical rules and Equations\nAdvanced Exercises â
 €“ Morphing ,Attractor / Repulsion\n\n\n\n\n\nFor more information vis
 it https://www.grasshopper3d.com/events/generative-algorithms
DTSTART;TZID=America/Boise:20140619T190000
DTEND;TZID=America/Boise:20140622T220000
CATEGORIES:parametric, workshop
LOCATION:Mimar Office, HC floor -city compass, Majaz 3,
WEBSITE:http://generative-lab.com/#Homepage
URL:http://generative-lab.com/#Homepage
CONTACT:+971557442130
ORGANIZER:mimar+ragheed+raja
ATTACH;FMTTYPE="image/jpeg":http://storage.ning.com/topology/rest/1.0/
 file/get/2828569137?profile=original
ATTENDEE;ROLE=REQ-PARTICIPANT;PARTSTAT=ACCEPTED;RSVP=TRUE;CN=raja:http
 s://www.grasshopper3d.com/profile/raja
END:VEVENT
END:VCALENDAR
