BEGIN:VCALENDAR
PRODID:NingEventWidget-v1
VERSION:2.0
METHOD:PUBLISH
BEGIN:VTIMEZONE
TZID:America/Boise
X-LIC-LOCATION:America/Boise
BEGIN:DAYLIGHT
TZOFFSETFROM:-0700
TZOFFSETTO:-0600
TZNAME:MDT
DTSTART:19700308T020000
RRULE:FREQ=YEARLY;BYMONTH=3;BYDAY=2SU
END:DAYLIGHT
BEGIN:STANDARD
TZOFFSETFROM:-0600
TZOFFSETTO:-0700
TZNAME:MST
DTSTART:19701101T020000
RRULE:FREQ=YEARLY;BYMONTH=11;BYDAY=1SU
END:STANDARD
END:VTIMEZONE
BEGIN:VEVENT
UID:2985220:Event:24717
DTSTAMP:20240202T195235Z
SUMMARY:GENERATE: International Seminar on Algorithmic Architecture
DESCRIPTION:GENERATE: International Seminar on Algorithmic Architectur
 e\nDepartment of Architecture, University of Oulu, Finland\n30th Octob
 er 2009\n\nArchitects all over the world are fascinated by algorithmic
  architecture which uses computer scripting to generate design solutio
 ns. Scripts are made out of series of written commands which can be pr
 ogrammed to solve complex geometric problems. Scripts can also be used
  to generate new, unexpected outcomes as they have the ability to eval
 uate, process and build on the given commands. In architecture scripti
 ng can be used in a variety of ways for different purposes ranging fro
 m automation of simple tasks to the management of entire design proces
 ses.\n\nKey international speakers include Michael Hensel, David Serer
 o, Luis Fraguada, Martin Tamke and Markus Wikar.\n\nFor more informati
 on visit https://www.grasshopper3d.com/events/generate-international-s
 eminar
DTSTART;TZID=America/Boise:20091030T000000
DTEND;TZID=America/Boise:20091030T235900
CATEGORIES:conference
LOCATION:University of Oulu - Department of Architecture
WEBSITE:http://www.generate.fi
URL:http://www.generate.fi
CONTACT:
ORGANIZER;CN="Carlos Pérez":https://www.grasshopper3d.com/profile/Car
 losPerez
ATTACH;FMTTYPE="image/jpeg":http://storage.ning.com/topology/rest/1.0/
 file/get/2827661581?profile=original
ATTENDEE;ROLE=REQ-PARTICIPANT;PARTSTAT=ACCEPTED;RSVP=TRUE;CN="Luis Fra
 guada":https://www.grasshopper3d.com/profile/LuisFraguada
ATTENDEE;ROLE=REQ-PARTICIPANT;PARTSTAT=ACCEPTED;RSVP=TRUE;CN="Carlos P
 érez":https://www.grasshopper3d.com/profile/CarlosPerez
END:VEVENT
END:VCALENDAR
