BEGIN:VCALENDAR
PRODID:NingEventWidget-v1
VERSION:2.0
METHOD:PUBLISH
BEGIN:VTIMEZONE
TZID:America/Boise
X-LIC-LOCATION:America/Boise
BEGIN:DAYLIGHT
TZOFFSETFROM:-0700
TZOFFSETTO:-0600
TZNAME:MDT
DTSTART:19700308T020000
RRULE:FREQ=YEARLY;BYMONTH=3;BYDAY=2SU
END:DAYLIGHT
BEGIN:STANDARD
TZOFFSETFROM:-0600
TZOFFSETTO:-0700
TZNAME:MST
DTSTART:19701101T020000
RRULE:FREQ=YEARLY;BYMONTH=11;BYDAY=1SU
END:STANDARD
END:VTIMEZONE
BEGIN:VEVENT
UID:2985220:Event:819549
DTSTAMP:20260419T120332Z
SUMMARY:Geco | Rhino2Eco
DESCRIPTION:Analysis in Ecotect directly from Rhino/Grasshopper throug
 h use of GECO\n2013 June 3-4 + Q&A day 8:00-11:00 am UTC / 10:00-13:00
  CEST / 16:00-19:00 CST (Beijing time)\nInstructors [uto] Ursula Frick
 , Thomas Grabner, Allison Weiler\nThe class is taught in English, full
 y online in 2 sessions of 3 hours each and an additional Q&A day via e
 mail. The course is scheduled between 8:00 and 11:00 UTC. This means t
 hat it is scheduled between 10:00 and 13:00 for Central European Summe
 r Time (CEST) and between 16:00 and 19:00 for China Standard Time (CST
  – Beijing time).\nParticipants are expected to have a basic underst
 anding of Grasshopper. Familiarity with Autodesk Ecotect is not requir
 ed. You will be able to ask questions in the class through a live chat
  designed to give participants support on theory and exercises develop
 ed during the course.\n\nFor more information visit https://www.grassh
 opper3d.com/events/geco-rhino2eco
DTSTART;TZID=America/Boise:20130603T200000
DTEND;TZID=America/Boise:20130604T230000
CATEGORIES:training, webinar
LOCATION:the internet
WEBSITE:http://www.geometrydepth.com/geco/
URL:http://www.geometrydepth.com/geco/
CONTACT:
ORGANIZER:http://www.geometrydepth.com
ATTACH;FMTTYPE="image/jpeg":http://storage.ning.com/topology/rest/1.0/
 file/get/2828244739?profile=original
ATTENDEE;ROLE=REQ-PARTICIPANT;PARTSTAT=ACCEPTED;RSVP=TRUE;CN="Constant
 ine Ronquillo":https://www.grasshopper3d.com/profile/ConstantineRonqui
 llo
ATTENDEE;ROLE=REQ-PARTICIPANT;PARTSTAT=ACCEPTED;RSVP=TRUE;CN="Thian Si
 ong, Choo":https://www.grasshopper3d.com/profile/ThianSiongChoo
ATTENDEE;ROLE=REQ-PARTICIPANT;PARTSTAT=ACCEPTED;RSVP=TRUE;CN="DILIP MI
 STRY":https://www.grasshopper3d.com/profile/DILIPMISTRY
ATTENDEE;ROLE=REQ-PARTICIPANT;PARTSTAT=ACCEPTED;RSVP=TRUE;CN="George G
 oh":https://www.grasshopper3d.com/profile/GeorgeGoh
ATTENDEE;ROLE=REQ-PARTICIPANT;PARTSTAT=ACCEPTED;RSVP=TRUE;CN="Allison 
 Weiler":https://www.grasshopper3d.com/profile/AllisonWeiler
ATTENDEE;ROLE=REQ-PARTICIPANT;PARTSTAT=ACCEPTED;RSVP=TRUE;CN="to]":htt
 ps://www.grasshopper3d.com/profile/to
ATTENDEE;ROLE=REQ-PARTICIPANT;PARTSTAT=TENTATIVE;RSVP=TRUE;CN="Toussai
 nt Jimenez Rojas":https://www.grasshopper3d.com/profile/ToussaintJimen
 ezRojas
ATTENDEE;ROLE=REQ-PARTICIPANT;PARTSTAT=TENTATIVE;RSVP=TRUE;CN="Manuel 
 Huerta":https://www.grasshopper3d.com/profile/ManuelHuerta
ATTENDEE;ROLE=REQ-PARTICIPANT;PARTSTAT=TENTATIVE;RSVP=TRUE;CN="Thomas 
 J. Mrokon":https://www.grasshopper3d.com/profile/teejot
END:VEVENT
END:VCALENDAR
