BEGIN:VCALENDAR
PRODID:NingEventWidget-v1
VERSION:2.0
METHOD:PUBLISH
BEGIN:VTIMEZONE
TZID:America/Boise
X-LIC-LOCATION:America/Boise
BEGIN:DAYLIGHT
TZOFFSETFROM:-0700
TZOFFSETTO:-0600
TZNAME:MDT
DTSTART:19700308T020000
RRULE:FREQ=YEARLY;BYMONTH=3;BYDAY=2SU
END:DAYLIGHT
BEGIN:STANDARD
TZOFFSETFROM:-0600
TZOFFSETTO:-0700
TZNAME:MST
DTSTART:19701101T020000
RRULE:FREQ=YEARLY;BYMONTH=11;BYDAY=1SU
END:STANDARD
END:VTIMEZONE
BEGIN:VEVENT
UID:2985220:Event:68619
DTSTAMP:20260421T084401Z
SUMMARY:FTH final Event: Nude Paper
DESCRIPTION:closing session of academic year 2010\n18:00\n02/06/2010\n
 \nNudePaper: Resultados Optativa Arquitectura Paramétrica\nDaniel Iba
 ñez: http://margen-lab.com\nFaBots/NGPS:Ali Basbous+Miquel lloveras w
 ww.iaacblog.com\n\nCodagym fitness program conditions your mind, fits 
 your spirit, puts a smile on your face and bounce in your step!\nCoda 
 is proud to present a wild and woolly workout!\nFTH, Featuring the Hit
 s is a series of open events to share cool things and learn new ones, 
 have some drinks and dance!\n\n\nimage done with GH+Kangaroo\n\nFor mo
 re information visit https://www.grasshopper3d.com/events/fth-final-ev
 ent-nude-paper
DTSTART;TZID=America/Boise:20100602T180000
DTEND;TZID=America/Boise:20100602T210000
CATEGORIES:closing, session
LOCATION:ETSAV Sant Cugat (Barcelona)
WEBSITE:http://codagym.wordpress.com
URL:http://codagym.wordpress.com
CONTACT:+34644344640
ORGANIZER;CN=CODA:https://www.grasshopper3d.com/profile/CODA
ATTACH;FMTTYPE="image/jpeg":http://storage.ning.com/topology/rest/1.0/
 file/get/2827706686?profile=original
ATTENDEE;ROLE=REQ-PARTICIPANT;PARTSTAT=ACCEPTED;RSVP=TRUE;CN="enrique 
 soriano":https://www.grasshopper3d.com/profile/enriquesoriano
ATTENDEE;ROLE=REQ-PARTICIPANT;PARTSTAT=ACCEPTED;RSVP=TRUE;CN=dumo:http
 s://www.grasshopper3d.com/profile/dumo
ATTENDEE;ROLE=REQ-PARTICIPANT;PARTSTAT=ACCEPTED;RSVP=TRUE;CN=CODA:http
 s://www.grasshopper3d.com/profile/CODA
END:VEVENT
END:VCALENDAR
