BEGIN:VCALENDAR
PRODID:NingEventWidget-v1
VERSION:2.0
METHOD:PUBLISH
BEGIN:VTIMEZONE
TZID:America/Boise
X-LIC-LOCATION:America/Boise
BEGIN:DAYLIGHT
TZOFFSETFROM:-0700
TZOFFSETTO:-0600
TZNAME:MDT
DTSTART:19700308T020000
RRULE:FREQ=YEARLY;BYMONTH=3;BYDAY=2SU
END:DAYLIGHT
BEGIN:STANDARD
TZOFFSETFROM:-0600
TZOFFSETTO:-0700
TZNAME:MST
DTSTART:19701101T020000
RRULE:FREQ=YEARLY;BYMONTH=11;BYDAY=1SU
END:STANDARD
END:VTIMEZONE
BEGIN:VEVENT
UID:2985220:Event:170875
DTSTAMP:20260421T074804Z
SUMMARY:FORMATIONS 2011
DESCRIPTION:CCA Architecture and the MEDIAlab, URBANlab, and ECOlab ar
 e pleased to announce FORMATIONS 2011, a series of workshops for stude
 nts and professionals taking place on March 5 and 12 in San Francisco.
  The workshops focus on a variety of different advanced digital design
  platforms related to environmental analysis, BIM, parametric design, 
 GIS, responsive systems, and urban/landscape design.\n\nEligibility: T
 he workshops are open to all students and professionals in the design 
 fields. Please review the specific experience requirements for each wo
 rkshop in the full workshop descriptions.\n\nCost: Each workshop costs
  $75/$150 for students/professionals. [Registration will be online on 
 Monday, March 1]\n\nHardware and Software: Attendees must bring their 
 own laptop to the workshop. Workshop instructors will make available t
 rial versions of the software.\n\nLocation: All workshops will be held
  on the CCA San Francisco Campus in the Graduate Center.\n\nParametric
  Modeling with Grasshopper I\nDate: March 5, 10am-5pm\nInstructor: Ben
  Golder (developer of Finches plugin)\n\nParametric Modeling with Gras
 shopper II\nDate: March 12, 10am-5pm\nInstructor: Ben Golder\n(develop
 er of Finches plugin)\n\nIntro to Physical Computing with Arduino\nDat
 e: March 5, 10am-5pm\nInstructors: Jason Kelly Johnson (CCA/FCL and co
 -developer of Firefly plugin), with Rip DeLeon (FCL)]\n\nConceptual Mo
 deling Tools in REVIT\nDate: March 12, 10am-5pm\nInstructor: Charles L
 ee (HOK, BIOS Design Collective)\n\nEnvironmental Analysis in Ecotect\
 nDate: March 5, 10am-5pm\nInstructor: Olivier Pennetier of Symphysis\n
 ESRI ArcGIS I: Mapping and Analyzing Urban Information\nDate: March 5,
  2-9pm\nInstructor: Richard M. Kos, AICP\n\nESRI ArcGIS II: 3D Analyst
  and ArcScene\nDate: March 12, 2-9pm\nInstructors: Richard M. Kos, AIC
 P and Mona El Khafif (URBANlab)\n\nAdvanced Illustrator for Urban Ecol
 ogies\nDate: March 5, 10am-5pm\nInstructor: David Fletcher (Fletcher S
 tudio, URBANlab)\n\nFor more information visit https://www.grasshopper
 3d.com/events/formations-2011
DTSTART;TZID=America/Boise:20110305T100000
DTEND;TZID=America/Boise:20110312T210000
CATEGORIES:workshops
LOCATION:California College of the Arts, San Francisco
WEBSITE:http://mlab.cca.edu/2011/02/formations-2011/
URL:http://mlab.cca.edu/2011/02/formations-2011/
CONTACT:415-703-9562
ORGANIZER:CCA Architecture MEDIAlab, ECOlab, and URBANlab
ATTACH;FMTTYPE="image/jpeg":http://storage.ning.com/topology/rest/1.0/
 file/get/2827766320?profile=original
ATTENDEE;ROLE=REQ-PARTICIPANT;PARTSTAT=ACCEPTED;RSVP=TRUE;CN="Andrew K
 udless":https://www.grasshopper3d.com/profile/AndrewKudless
END:VEVENT
END:VCALENDAR
