BEGIN:VCALENDAR
PRODID:NingEventWidget-v1
VERSION:2.0
METHOD:PUBLISH
BEGIN:VTIMEZONE
TZID:America/Boise
X-LIC-LOCATION:America/Boise
BEGIN:DAYLIGHT
TZOFFSETFROM:-0700
TZOFFSETTO:-0600
TZNAME:MDT
DTSTART:19700308T020000
RRULE:FREQ=YEARLY;BYMONTH=3;BYDAY=2SU
END:DAYLIGHT
BEGIN:STANDARD
TZOFFSETFROM:-0600
TZOFFSETTO:-0700
TZNAME:MST
DTSTART:19701101T020000
RRULE:FREQ=YEARLY;BYMONTH=11;BYDAY=1SU
END:STANDARD
END:VTIMEZONE
BEGIN:VEVENT
UID:2985220:Event:546126
DTSTAMP:20260423T142717Z
SUMMARY:formation grasshopper dÃ©butant
DESCRIPTION:PrÃ© requis:  Une bonne connaissance de RhinocÃ©ros 3D.\n 
 Objectifs de la formation:\nLes objectifs de la Formation sont : la dÃ
 ©couverte et autonomie dans la rÃ©alisation de Logigrammes Grasshopper
  (attention vous risquez de ne plus pouvoir vous en passer ;o).\nProgr
 amme de la formation:\n\nRelation Grasshopper Rhino\nL'environnement e
 t l'interface de Grasshopper\nLa logique de Grasshopper\nDiffÃ©rences 
 entre Grasshopper, Rhinoparametrics et RhinoScript, limites et avantag
 es de chacun des outils\nLes composants Grasshopper, les types d'objet
 s, les objets RhinocÃ©ros et leur intÃ©gration dans le modÃ¨le Grassho
 pper, les points Grasshopper, les courbes Grasshopper, les surfaces et
  solides Grasshopper\nLes OpÃ©rateurs mathÃ©matiques dans Grasshopper 
 : Vecteurs, Fonctions, Scalaires\nTypes de donnÃ©es ; NumÃ©riques, Cha
 ines de caractÃ¨res\nLes structures de donnÃ©es dans Grasshopper ; Lis
 tes, Arborescences\nPrÃ©sentation de la programmation dans Grasshopper
 , diffÃ©rences VBScript VB.Net, l'environnement de programmation Rhino
 Common\nLe Module d'optimisation Galapagos\nExercices d'application et
  support de cours numÃ©rique\n\n\nFor more information visit https://w
 ww.grasshopper3d.com/events/formation-grasshopper-d-butant-3
DTSTART;TZID=America/Boise:20120705T000000
DTEND;TZID=America/Boise:20120706T235900
CATEGORIES:formation, training, paris
LOCATION:PARIS XV
WEBSITE:http://www.cadlantique.com
URL:http://www.cadlantique.com
CONTACT:33297578738
ORGANIZER;CN="Phil Shapiro":https://www.grasshopper3d.com/profile/Phil
 Shapiro
ATTACH;FMTTYPE="image/jpeg":http://storage.ning.com/topology/rest/1.0/
 file/get/2827956162?profile=original
ATTENDEE;ROLE=REQ-PARTICIPANT;PARTSTAT=ACCEPTED;RSVP=TRUE;CN="peter co
 ulter":https://www.grasshopper3d.com/profile/petercoulter
ATTENDEE;ROLE=REQ-PARTICIPANT;PARTSTAT=ACCEPTED;RSVP=TRUE;CN="Phil Sha
 piro":https://www.grasshopper3d.com/profile/PhilShapiro
END:VEVENT
END:VCALENDAR
