BEGIN:VCALENDAR
PRODID:NingEventWidget-v1
VERSION:2.0
METHOD:PUBLISH
BEGIN:VTIMEZONE
TZID:America/Boise
X-LIC-LOCATION:America/Boise
BEGIN:DAYLIGHT
TZOFFSETFROM:-0700
TZOFFSETTO:-0600
TZNAME:MDT
DTSTART:19700308T020000
RRULE:FREQ=YEARLY;BYMONTH=3;BYDAY=2SU
END:DAYLIGHT
BEGIN:STANDARD
TZOFFSETFROM:-0600
TZOFFSETTO:-0700
TZNAME:MST
DTSTART:19701101T020000
RRULE:FREQ=YEARLY;BYMONTH=11;BYDAY=1SU
END:STANDARD
END:VTIMEZONE
BEGIN:VEVENT
UID:2985220:Event:546057
DTSTAMP:20260423T230410Z
SUMMARY:formation grasshopper avancée
DESCRIPTION:Pré requis: Une bonne connaissance de Rhinocéros et de l
 'aisance avec les fonctions de bases de GrassHopper.\n Objectif de la 
 formation:  L'objectif est de pouvoir ensuite exploiter les fonctions 
 avancées de Grasshopper. C'est une formation pragmatique avec pour il
 lustration des exemples d'outils intégrables dans GrassHopper et dans
  Rhinocéros. Le support technique est compris dans le prix de la form
 ation.\nprix : 350 € ht/jour\n\nFor more information visit https://w
 ww.grasshopper3d.com/events/formation-grasshopper-avanc-e-3
DTSTART;TZID=America/Boise:20120614T000000
DTEND;TZID=America/Boise:20120615T235900
CATEGORIES:formation, training, paris
LOCATION:PARIS XV
WEBSITE:http://www.cadlantique@aol.com
URL:http://www.cadlantique@aol.com
CONTACT:33297578738
ORGANIZER;CN="Phil Shapiro":https://www.grasshopper3d.com/profile/Phil
 Shapiro
ATTACH;FMTTYPE="image/jpeg":http://storage.ning.com/topology/rest/1.0/
 file/get/2827956162?profile=original
ATTENDEE;ROLE=REQ-PARTICIPANT;PARTSTAT=ACCEPTED;RSVP=TRUE;CN="Phil Sha
 piro":https://www.grasshopper3d.com/profile/PhilShapiro
ATTENDEE;ROLE=REQ-PARTICIPANT;PARTSTAT=TENTATIVE;RSVP=TRUE;CN="natalia
  caicedo llano":https://www.grasshopper3d.com/profile/nataliacaicedoll
 ano
END:VEVENT
END:VCALENDAR
