BEGIN:VCALENDAR
PRODID:NingEventWidget-v1
VERSION:2.0
METHOD:PUBLISH
BEGIN:VTIMEZONE
TZID:America/Boise
X-LIC-LOCATION:America/Boise
BEGIN:DAYLIGHT
TZOFFSETFROM:-0700
TZOFFSETTO:-0600
TZNAME:MDT
DTSTART:19700308T020000
RRULE:FREQ=YEARLY;BYMONTH=3;BYDAY=2SU
END:DAYLIGHT
BEGIN:STANDARD
TZOFFSETFROM:-0600
TZOFFSETTO:-0700
TZNAME:MST
DTSTART:19701101T020000
RRULE:FREQ=YEARLY;BYMONTH=11;BYDAY=1SU
END:STANDARD
END:VTIMEZONE
BEGIN:VEVENT
UID:2985220:Event:1127078
DTSTAMP:20260421T221738Z
SUMMARY:Form Finding Strategies Grasshopper Livello Avanzato Milano 2>
 4 Dicembre 2014
DESCRIPTION:La simulazione fisica interattiva, integrata nellâ€™ambito
  della modellazione parametrica consente di indagare nuove soluzioni f
 ormali ottimizzate per lâ€™architettura ed il design. Il workshop appr
 ofondirÃ  le strategie e le principali tecniche di FORM FINDING utiliz
 zando il motore fisico KANGAROO integrato a plugin di analisi struttur
 ale (MILLIPEDE). Le tecniche saranno applicate a diversa scala: dallâ€
 ™architettura (modellazione di superfici e coperture a semplice compre
 ssione) al design del prodotto, dove la simulazione digitale sarÃ  int
 egrata a tecniche di refinement (WEAVERBIRD).Â Il workshop e rivolto a
  studenti e professionisti con conoscenze base di modellazione algorit
 mica con Grasshopper.Â Maggiori Infoâ€¦\n\nFor more information visit 
 https://www.grasshopper3d.com/events/form-finding-strategies-grasshopp
 er-livello-avanzato-milano-2-4
DTSTART;TZID=America/Boise:20141202T180000
DTEND;TZID=America/Boise:20141204T190000
CATEGORIES:workshop, corso, grasshopper
LOCATION:Meeting Room NH GRAND HOTEL VERDI
WEBSITE:http://www.arturotedeschi.com/wordpress/?project=form-finding-
 strategies-avanzato
URL:http://www.arturotedeschi.com/wordpress/?project=form-finding-stra
 tegies-avanzato
CONTACT:3475487178
ORGANIZER:Arturo Tedeschi, Le Penseur
ATTACH;FMTTYPE="image/jpeg":http://storage.ning.com/topology/rest/1.0/
 file/get/2828528018?profile=original
ATTENDEE;ROLE=REQ-PARTICIPANT;PARTSTAT=ACCEPTED;RSVP=TRUE;CN="Arturo T
 edeschi":https://www.grasshopper3d.com/profile/ArturoTedeschi
END:VEVENT
END:VCALENDAR
