BEGIN:VCALENDAR
PRODID:NingEventWidget-v1
VERSION:2.0
METHOD:PUBLISH
BEGIN:VTIMEZONE
TZID:America/Boise
X-LIC-LOCATION:America/Boise
BEGIN:DAYLIGHT
TZOFFSETFROM:-0700
TZOFFSETTO:-0600
TZNAME:MDT
DTSTART:19700308T020000
RRULE:FREQ=YEARLY;BYMONTH=3;BYDAY=2SU
END:DAYLIGHT
BEGIN:STANDARD
TZOFFSETFROM:-0600
TZOFFSETTO:-0700
TZNAME:MST
DTSTART:19701101T020000
RRULE:FREQ=YEARLY;BYMONTH=11;BYDAY=1SU
END:STANDARD
END:VTIMEZONE
BEGIN:VEVENT
UID:2985220:Event:846630
DTSTAMP:20260423T142719Z
SUMMARY:Force Based Design: Bauhaus Summer School
DESCRIPTION:Force Based Design towards Resource Efficient Construction
 Â Â Â Â Â Â Â Â Â Â Â Â Â Â Â Â Â Â Â Â Â Â Â Â Â Â Â Â Â Â Â Â Â Â Â 
 Â Â Â Â Â Â Â Â Â Â Â Â Â Â Â Â Â Â Â Â Â Â Â Â Â Â Â Â  \nA steeply r
 ising world population, economic globalization and the rapid increase 
 of resource and energy consumption identify significant developments o
 f our time. Against this background and in the context of sustainable 
 fairness to future generations, there will be a greater focus on energ
 y and ressource efficient building structures.\nThis interdisciplinary
 Â course aims to lay the foundations of a â€žforce based designâ€œ thr
 ough theoretical input lectures and presentations. Varying examples wi
 ll show that the efficiency of structures depends largely on the flow 
 of forces within the structure. Possible optimisation strategies will 
 be discussed in the light of material saving and their impact on archi
 tectural form.\nThis course willÂ introduce you to the use of digital 
 analysis and optimization tools. You will learn to deal with three-dim
 ensional parametric software (Rhinoceros 3D, Grasshopper, Sofistik, Ka
 ramba, GeometryGym, Kangaroo).\nFinally, the knowledge acquired will b
 e applied and developed in designing a pedestrian bridge or a slender 
 tower.\nParticipantsÂ will beÂ able to recognize the effects of forces
  as design parameters. They will recognize the potential of building g
 eometry in the context of architecture and resource-efficient designs.
 \n\nInformation Â» Application deadlineÂ Â Â  15 May Â» Course duratio
 nÂ Â Â Â Â Â Â Â  18 - 30 August Â» Course languageÂ Â Â Â Â Â Â  Engl
 ish Â» Target GroupsÂ Â Â Â Â Â Â Â Â Â  Master students, graduates, d
 octoral Â Â Â Â Â Â Â Â Â Â Â Â Â Â Â Â Â Â Â Â Â Â Â Â Â Â Â Â Â Â Â 
  candidates and young professionals Â» RequirementsÂ Â Â Â Â Â Â Â Â Â
  Â  basic knowledge of 3D parametric Â Â Â Â Â Â Â Â Â Â Â Â Â Â Â Â Â
  Â Â Â Â Â Â Â Â Â Â Â Â Â Â  software is recommended Â» Course feeÂ Â
  Â Â Â Â Â Â Â Â Â Â Â Â  490 â‚¬ Â Â Â Â Â Â Â Â Â Â Â Â Â Â Â Â Â Â 
 Â Â Â Â Â Â Â Â Â Â Â Â Â  (100 â‚¬ discount for students and alumni) 
 Â Â Â Â Â Â Â Â Â Â Â Â Â Â Â Â Â Â Â Â Â Â Â Â Â Â Â Â Â Â Â  (290 â‚
 ¬ discount for students of the Â Â Â Â Â Â Â Â Â Â Â Â Â Â Â Â Â Â Â Â
  Â Â Â Â Â Â Â Â Â Â Â Â  Bauhaus-UniversitÃ¤t Weimar)\n Lecturers Â» 
 Prof. Dr.-Ing. Alexander Stahr - HTWK Leipzig Â» Dipl.-Ing. Christian 
 Heidenreich - Bauhaus-UniversitÃ¤t Weimar Â» B.Sc. Martin Dembski - Ba
 uhaus-UniversitÃ¤t Weimar\n Guest Lecturers Â» Dipl. Eng. Arch. Simon 
 Vogt - Transform Engineers, Hamburg Â» Dipl. Bauingenieur FH Nico-Ros-
 Zeile - ZPF Ingenieure, Basel (CH)\n\nFor more information visit https
 ://www.grasshopper3d.com/events/force-based-design-bauhaus-summer-scho
 ol
DTSTART;TZID=America/Boise:20130818T000000
DTEND;TZID=America/Boise:20130830T235900
CATEGORIES:analysis, course, digital, optimization, structural
LOCATION:Germany, Weimar, Bauhaus-UniversitÃ¤t Weimar
WEBSITE:https://www.uni-weimar.de/summerschool/en/welcome/architecture
 -art-design/force-based-design.html
URL:https://www.uni-weimar.de/summerschool/en/welcome/architecture-art
 -design/force-based-design.html
CONTACT:0049 (0)3643 583079
ORGANIZER:Alexander Stahr, Christian Heidenreich, Martin Dembski
ATTACH;FMTTYPE="image/jpeg":http://storage.ning.com/topology/rest/1.0/
 file/get/2708863625?profile=original
ATTENDEE;ROLE=REQ-PARTICIPANT;PARTSTAT=ACCEPTED;RSVP=TRUE;CN="Martin D
 embski":https://www.grasshopper3d.com/profile/MartinDembski
END:VEVENT
END:VCALENDAR
