BEGIN:VCALENDAR
PRODID:NingEventWidget-v1
VERSION:2.0
METHOD:PUBLISH
BEGIN:VTIMEZONE
TZID:America/Boise
X-LIC-LOCATION:America/Boise
BEGIN:DAYLIGHT
TZOFFSETFROM:-0700
TZOFFSETTO:-0600
TZNAME:MDT
DTSTART:19700308T020000
RRULE:FREQ=YEARLY;BYMONTH=3;BYDAY=2SU
END:DAYLIGHT
BEGIN:STANDARD
TZOFFSETFROM:-0600
TZOFFSETTO:-0700
TZNAME:MST
DTSTART:19701101T020000
RRULE:FREQ=YEARLY;BYMONTH=11;BYDAY=1SU
END:STANDARD
END:VTIMEZONE
BEGIN:VEVENT
UID:2985220:Event:1028919
DTSTAMP:20260423T173931Z
SUMMARY:Footwear Design and Fabrication
DESCRIPTION:Footwear Design & Digital Fabrication \n\nWhere: Sala Eje
 cutiva 4\n\nPrice: $95.00 USD\n\nCourse Language: Spanish\n\nProfessor
 : José de Jesús López Martínez. Punto3D, ART (Authorized Rhino Tra
 iner)\n\nSharing basic concepts for personalization in footwear design
  and fabrication in order to send afterwards to CNCs, laser cutting eq
 uipment, 3D printers, etc.\nNote: Previous knowledge in Rhinoceros and
  footwear design is not necessary.Content:1. Personalization in footwe
 ar upper(Working with a digital shape from a 3D scan)2. Shoe sole crea
 tion3. Using Grasshopper to create women's heels4. Nesting and using t
 he work area5. Basic programming for a mold and/or a mock-up for CNC -
  RhinoCAM\nRequirements: 1 PC or LaptopSoftware: Punto3D, provided by 
 a CD which includes necessary demo programs, as well as the files that
  will be used for the session. Rhinoceros 5.0 for WindowsGrasshopperR
 hinoCAM 2014RhinoNEST 2014NOTE: You have to bring your own computer wi
 th Rhino 5 installed.\n\nRegister:\nhttp://www.mcneelmiami.com/inc/sde
 tail/1727\n\n//\n\nDiseño y fabricación digital de Calzado\n\nLugar:
  Sala Ejecutiva 4\n\nPrecio: $95.00 USD\n\nIdioma de curso: Español\n
 \nProfesor: José de Jesús López Martínez. Punto3D, ART (Authorized
  Rhino Trainer)\n\n\nDescripción: Compartir conceptos básicos para l
 a personalización de cortes de calzado y el diseño de accesorios. Pa
 ra su posterior envío a dispositivos como CNC's, equipos de corte lá
 ser, impresoras 3D, entre otros. Nota: No es necesario tener conocimie
 ntos previos de Rhinoceros, ni de diseño de calzado.\n\nContenido:\n1
 . Personalización de corte de calzado (Trabajo sobre horma digital, l
 a cual proviene de un escaneado 3D)\n2. Creación de una suela\n3. Gra
 sshopper para la creación de un tacón para calzado de dama\n4. Nesti
 ng y el aprovechamiento de áreas de trabajo\n5. Programación básica
  de un molde y/o maqueta para CNC – RhinoCAM\n\nRequisitos: 1 PC o L
 aptop\n\nSoftware: Punto3D, proveerá un CD que incluirá los programa
 s Demos necesarios, así como los archivos para trabajar en la sesión
 \nRhinoceros 5.0 para Windows\nGrasshopper\nRhinoCAM 2014\nRhinoNEST 2
 014\n\nNOTA: Tienes que llevar tu computador con Rhino 5 ya instalado\
 n\nRegístrate:\nhttp://www.mcneelmiami.com/inc/sdetail/1727\n\nFor mo
 re information visit https://www.grasshopper3d.com/events/footwear-des
 ign-and-fabrication
DTSTART;TZID=America/Boise:20140403T080000
DTEND;TZID=America/Boise:20140403T170000
CATEGORIES:presentations, workshops, rhinofabstudio
LOCATION:Tec of Monterrey Campus Guadalajara, Mexico
WEBSITE:http://www.itesm.mx/wps/wcm/connect/Campus/GDA/Guadalajara/
URL:http://www.itesm.mx/wps/wcm/connect/Campus/GDA/Guadalajara/
CONTACT:
ORGANIZER:Rhino3DTV Team
ATTACH;FMTTYPE="image/jpeg":http://storage.ning.com/topology/rest/1.0/
 file/get/2828505728?profile=original
ATTENDEE;ROLE=REQ-PARTICIPANT;PARTSTAT=ACCEPTED;RSVP=TRUE;CN="Sachie S
 akai":https://www.grasshopper3d.com/profile/SachieSakai
END:VEVENT
END:VCALENDAR
