BEGIN:VCALENDAR
PRODID:NingEventWidget-v1
VERSION:2.0
METHOD:PUBLISH
BEGIN:VTIMEZONE
TZID:America/Boise
X-LIC-LOCATION:America/Boise
BEGIN:DAYLIGHT
TZOFFSETFROM:-0700
TZOFFSETTO:-0600
TZNAME:MDT
DTSTART:19700308T020000
RRULE:FREQ=YEARLY;BYMONTH=3;BYDAY=2SU
END:DAYLIGHT
BEGIN:STANDARD
TZOFFSETFROM:-0600
TZOFFSETTO:-0700
TZNAME:MST
DTSTART:19701101T020000
RRULE:FREQ=YEARLY;BYMONTH=11;BYDAY=1SU
END:STANDARD
END:VTIMEZONE
BEGIN:VEVENT
UID:2985220:Event:63552
DTSTAMP:20260424T182224Z
SUMMARY:Featuring The Hits
DESCRIPTION:Codagym fi tness program conditions your mind, fi ts your 
 spirit,\nputs a smile on your face and bounce in your step!\nCoda is p
 roud to present A wild and woolly workout!\nFTH, Featuring the Hits is
  a series of open events to share\ncool things and learn new ones, hav
 e some drinks and dance!\nLook Good / Have Fun / Feel It\n\nFor more i
 nformation visit https://www.grasshopper3d.com/events/featuring-the-hi
 ts
DTSTART;TZID=America/Boise:20100505T193000
DTEND;TZID=America/Boise:20100505T213000
CATEGORIES:fun, knowledge, sharing
LOCATION:ETSAV, Barcelona
WEBSITE:http://maps.google.com/maps?f=q&source=s_q&hl=en&geocode=&q=sa
 nt+cugat+etsav&sll=41.475178,2.073369&sspn=0.022733,0.038109&ie=UTF8&h
 q=&hnear=Escuela+T%C3%A9cnica+Superior+de+Arquitectura+del+Vall%C3%A9s
 ,+C%2F+Pere+Serra,+1-15,+08173+Sant+Cugat+Del+Valles,+Barcelona,+Spain
 &ll=41.469117,2.072468&spn=0.005684,0.009527&t=h&z=17
URL:http://maps.google.com/maps?f=q&source=s_q&hl=en&geocode=&q=sant+c
 ugat+etsav&sll=41.475178,2.073369&sspn=0.022733,0.038109&ie=UTF8&hq=&h
 near=Escuela+T%C3%A9cnica+Superior+de+Arquitectura+del+Vall%C3%A9s,+C%
 2F+Pere+Serra,+1-15,+08173+Sant+Cugat+Del+Valles,+Barcelona,+Spain&ll=
 41.469117,2.072468&spn=0.005684,0.009527&t=h&z=17
CONTACT:
ORGANIZER;CN=CODA:https://www.grasshopper3d.com/profile/CODA
ATTACH;FMTTYPE="image/jpeg":http://storage.ning.com/topology/rest/1.0/
 file/get/2708594063?profile=original
ATTENDEE;ROLE=REQ-PARTICIPANT;PARTSTAT=ACCEPTED;RSVP=TRUE;CN="Marina R
 ocarols":https://www.grasshopper3d.com/profile/MarinaRocarols
ATTENDEE;ROLE=REQ-PARTICIPANT;PARTSTAT=ACCEPTED;RSVP=TRUE;CN=dumo:http
 s://www.grasshopper3d.com/profile/dumo
ATTENDEE;ROLE=REQ-PARTICIPANT;PARTSTAT=ACCEPTED;RSVP=TRUE;CN="enrique 
 soriano":https://www.grasshopper3d.com/profile/enriquesoriano
ATTENDEE;ROLE=REQ-PARTICIPANT;PARTSTAT=ACCEPTED;RSVP=TRUE;CN=CODA:http
 s://www.grasshopper3d.com/profile/CODA
END:VEVENT
END:VCALENDAR
