BEGIN:VCALENDAR
PRODID:NingEventWidget-v1
VERSION:2.0
METHOD:PUBLISH
BEGIN:VTIMEZONE
TZID:America/Boise
X-LIC-LOCATION:America/Boise
BEGIN:DAYLIGHT
TZOFFSETFROM:-0700
TZOFFSETTO:-0600
TZNAME:MDT
DTSTART:19700308T020000
RRULE:FREQ=YEARLY;BYMONTH=3;BYDAY=2SU
END:DAYLIGHT
BEGIN:STANDARD
TZOFFSETFROM:-0600
TZOFFSETTO:-0700
TZNAME:MST
DTSTART:19701101T020000
RRULE:FREQ=YEARLY;BYMONTH=11;BYDAY=1SU
END:STANDARD
END:VTIMEZONE
BEGIN:VEVENT
UID:2985220:Event:1022393
DTSTAMP:20260423T192237Z
SUMMARY:Facades+ Symposium + Workshops
DESCRIPTION:Calling all architects, fabricators, developers, consultan
 ts and all other design professionals to join us at New York Facades+ 
 Symposium & Workshops.\n\nFacades+ is the premiere conference on build
 ing enclosures.\n\nParticipate in the symposium and gain insight from 
 the industry's thought leaders.\nLearn through hands-on workshops led 
 by industry experts.\nNetwork with your peers.\n\n\nFor more informati
 on visit https://www.grasshopper3d.com/events/facades-symposium-worksh
 ops
DTSTART;TZID=America/Boise:20140424T090000
DTEND;TZID=America/Boise:20140425T180000
CATEGORIES:symposium, workshop, conference
LOCATION:CUNY Graduate Center
WEBSITE:http://facadesplus.com
URL:http://facadesplus.com
CONTACT:
ORGANIZER;CN="GIL AKOS":https://www.grasshopper3d.com/profile/GILAKOS
ATTACH;FMTTYPE="image/jpeg":http://storage.ning.com/topology/rest/1.0/
 file/get/2828494172?profile=original
ATTENDEE;ROLE=REQ-PARTICIPANT;PARTSTAT=ACCEPTED;RSVP=TRUE;CN="GIL AKOS
 ":https://www.grasshopper3d.com/profile/GILAKOS
END:VEVENT
END:VCALENDAR
