BEGIN:VCALENDAR
PRODID:NingEventWidget-v1
VERSION:2.0
METHOD:PUBLISH
BEGIN:VTIMEZONE
TZID:America/Boise
X-LIC-LOCATION:America/Boise
BEGIN:DAYLIGHT
TZOFFSETFROM:-0700
TZOFFSETTO:-0600
TZNAME:MDT
DTSTART:19700308T020000
RRULE:FREQ=YEARLY;BYMONTH=3;BYDAY=2SU
END:DAYLIGHT
BEGIN:STANDARD
TZOFFSETFROM:-0600
TZOFFSETTO:-0700
TZNAME:MST
DTSTART:19701101T020000
RRULE:FREQ=YEARLY;BYMONTH=11;BYDAY=1SU
END:STANDARD
END:VTIMEZONE
BEGIN:VEVENT
UID:2985220:Event:751648
DTSTAMP:20260419T162713Z
SUMMARY:FabricaciÃ³ Digital
DESCRIPTION:Artists, Artisans, Crafters, Architects and Engineers... U
 nite!\n\nCurs FabricaciÃ³ Digital al programa Massana Permanent.Obert 
 a tothom i a primavera. Registraâ€™t abans de febrer.\nCurs dirigit a:
 artistes: escultura, pintura, mÃºsica, digitalartesans: joieria, tÃ¨xt
 il, moda, cuÃ¯r, vidre i vitrallsdissenyadors: industrials, mobles, gr
 Ã fics, ilÂ·lustraciÃ³, patrons, cuina i reposteriaarquitectes: interi
 ors, estructures, construcciÃ³, instalÂ·lacions, escenografies, decora
 ciÃ³enginyers: processos, industrials, materials\nIntroducciÃ³:Aplicac
 iÃ³ de les tÃ¨cniques de fabricaciÃ³ digital a travÃ©s dâ€™eines (soft
 ware) i tecnologies (hardware) amb lâ€™objectiu de facilitar la introd
 ucciÃ³ dâ€™aquestes eines dins dels processos creatius i executius del
 s diferents camps de lâ€™art i el disseny. El curs parteix dâ€™un desp
 legament teÃ²ric i tÃ¨cnic genÃ¨ric, per acabar centrant-se en el dese
 nvolupament dâ€™un projecte personal que explori la disciplina concret
 a del estudiant.\nInformaciÃ³ a la web de lâ€™Escola MassanaInformaciÃ
 ³ a la web de CODA\nDates:Â 05.03.2012 al 25.06.2012Dies:Â Dilluns i D
 ovendresHorari:Â 17:00 a 20:30 horesLloc:Â Escola Massana. C/Hospital,
  56 08001 Barcelona. Metro: Liceu\nContacte professors:pep.tornabell(a
 t)coda-office.comenrique.soriano(at)coda-office.com\n\nFor more inform
 ation visit https://www.grasshopper3d.com/events/fabricaci-digital
DTSTART;TZID=America/Boise:20130118T170000
DTEND;TZID=America/Boise:20130626T203000
CATEGORIES:digital, fabrication, course
LOCATION:Barcelona, Escola Massana UAB
WEBSITE:http://academic.coda-office.com/fd/fabricacio-digital-a-la-mas
 sana/
URL:http://academic.coda-office.com/fd/fabricacio-digital-a-la-massana
 /
CONTACT:0034 644344640
ORGANIZER:CODA-office
ATTACH;FMTTYPE="image/jpeg":http://storage.ning.com/topology/rest/1.0/
 file/get/2804736521?profile=original
ATTENDEE;ROLE=REQ-PARTICIPANT;PARTSTAT=ACCEPTED;RSVP=TRUE;CN="Pep Torn
 abell":https://www.grasshopper3d.com/profile/PepTornabell
ATTENDEE;ROLE=REQ-PARTICIPANT;PARTSTAT=TENTATIVE;RSVP=TRUE;CN="Dipl.-I
 ng. Alexander Haider":https://www.grasshopper3d.com/profile/Alexander_
 Haider
END:VEVENT
END:VCALENDAR
