BEGIN:VCALENDAR
PRODID:NingEventWidget-v1
VERSION:2.0
METHOD:PUBLISH
BEGIN:VTIMEZONE
TZID:America/Boise
X-LIC-LOCATION:America/Boise
BEGIN:DAYLIGHT
TZOFFSETFROM:-0700
TZOFFSETTO:-0600
TZNAME:MDT
DTSTART:19700308T020000
RRULE:FREQ=YEARLY;BYMONTH=3;BYDAY=2SU
END:DAYLIGHT
BEGIN:STANDARD
TZOFFSETFROM:-0600
TZOFFSETTO:-0700
TZNAME:MST
DTSTART:19701101T020000
RRULE:FREQ=YEARLY;BYMONTH=11;BYDAY=1SU
END:STANDARD
END:VTIMEZONE
BEGIN:VEVENT
UID:2985220:Event:1342504
DTSTAMP:20260423T210429Z
SUMMARY:FABRIC<action> Digital Knitting
DESCRIPTION:What we gonna do?Taking inspiration from the Łódź lavis
 h textile legacy, participants will be experimenting with the most up-
 to-date design techniques as well as with the 3D printing technology u
 sing it as the modern weaving machine to produce beautiful and unique 
 architectural elements. We will be using available modern technology i
 n the most unconventional way, fuelling its power with advanced algori
 thms developed by participants during workshops. But no worries! You d
 on't need to know any programming.Everything you need is the positive 
 attitude for the unknown and your great creativity. Everything else yo
 u will get at the Workshops!For whom the bell tolls?We are aiming our 
 workshops at people who had never experienced the power of computation
 al and generative design or who already have some basics but are still
  eager to improve their skills and satisfy their knowledge hunger. Our
  workshop is open to everybody, without age limit: students, designers
 , architects and anyone interested in generative design techniques.OK,
  but why?If you haven't get the picture yet, no problem, here we go! 
 The main purpose of the Workshop is to get people acquainted with mode
 rn design possibilities such as genrative, parametric or computational
  techniques - whatever you want to call them. What's more we want to s
 how you how cool and useful the digital fabrication can be - in our ca
 se the 3D printing technology.How it works?We have divided the Worksho
 p in two parts: During the first one, we will show our participants a
 nd get them acquainted with the software and its logic through various
  tutorials and examples.The second one is going to be an experimental 
 one, oriented at creative implementation of the knowledge obtained dur
 ing the first part as well as at making igenious use of the 3D printer
 .What are the tools?In every normal workshop one keeps his tools. And 
 so do we! At ours we are going to use Rhinoceros software with its pri
 celess plug-in Grasshopper to create 3-dimensional structures with the
  use of so-called \"node based programming\" (that's Grasshopper), so 
 that eventually we could print everything in 3D using our marvellous 3
 D MakerBot Replicator 2x printer!How much does it cost?We have two opt
 ions:Student 250 PLNRegular 500 PLNPayments due date is 09.09.2015You 
 can register right here:http://goo.gl/forms/QaqkyQb4BHPlease keep in m
 ind that the number of places is limited. The faster the better ;)\n\n
 For more information visit https://www.grasshopper3d.com/events/fabric
 -action-digital-knitting
DTSTART;TZID=America/Boise:20150928T000000
DTEND;TZID=America/Boise:20151001T235900
CATEGORIES:workshops
LOCATION:Poland, Lodz, Lodz University of Technology
WEBSITE:http://www.fabricaction.pl/fabricactionen.html
URL:http://www.fabricaction.pl/fabricactionen.html
CONTACT:
ORGANIZER;CN="Sebastian Białkowski":https://www.grasshopper3d.com/pro
 file/SebastianBialkowski
ATTACH;FMTTYPE="image/jpeg":http://storage.ning.com/topology/rest/1.0/
 file/get/2709000108?profile=original
ATTENDEE;ROLE=REQ-PARTICIPANT;PARTSTAT=ACCEPTED;RSVP=TRUE;CN="Sebastia
 n Białkowski":https://www.grasshopper3d.com/profile/SebastianBialkows
 ki
ATTENDEE;ROLE=REQ-PARTICIPANT;PARTSTAT=TENTATIVE;RSVP=TRUE;CN="Piotr K
 lushinsky":https://www.grasshopper3d.com/profile/klushinsky
END:VEVENT
END:VCALENDAR
