BEGIN:VCALENDAR
PRODID:NingEventWidget-v1
VERSION:2.0
METHOD:PUBLISH
BEGIN:VTIMEZONE
TZID:America/Boise
X-LIC-LOCATION:America/Boise
BEGIN:DAYLIGHT
TZOFFSETFROM:-0700
TZOFFSETTO:-0600
TZNAME:MDT
DTSTART:19700308T020000
RRULE:FREQ=YEARLY;BYMONTH=3;BYDAY=2SU
END:DAYLIGHT
BEGIN:STANDARD
TZOFFSETFROM:-0600
TZOFFSETTO:-0700
TZNAME:MST
DTSTART:19701101T020000
RRULE:FREQ=YEARLY;BYMONTH=11;BYDAY=1SU
END:STANDARD
END:VTIMEZONE
BEGIN:VEVENT
UID:2985220:Event:1067920
DTSTAMP:20260423T192243Z
SUMMARY:Extra Fabrica 2014
DESCRIPTION:\n\nDEZACT is pleased to announce Extra Fabrica 2014, a de
 sign & build studio-based workshop in Taipei, Taiwan from 28th June 20
 14 to 09th July 2014.\n \nExtraFabrica2014, a workshop on digital des
 ign and fabrication procedures, is being conducted in June-July 2014 i
 n association with Shih Chien University and Tamkang University in Tai
 pei, Taiwan. The interdisciplinary workshop provides an opportunity to
  architects and designers to be a part of the 12 day studio and invest
 igate interactive design and fabrication solutions for dynamic socio-c
 ultural fabrics.\n \nExtraFabrica is a part of Dezact’s exploration
  aiming to develop and test interactive design and fabrication scenari
 os in neglected or problematic urban interstices and ecologies, to ada
 pt to existing constructs for new use and identity, to catalyse socio-
 cultural activities and to engage behaviour parallax between physical 
 and virtual environments. Conditions of 'live' factors with extended d
 uration and occupation, i.e. street life, derelict buildings, traffic,
  rain, dance, demonstration, and so on, are invited to interfere with 
 quantifiable or codify-able parameters set out by design algorithm, fe
 edback mechanism and fabrication dynamics. The idea envisages architec
 tural outcome which enables fabrication of action, of participation, o
 f change of values, of identity, of confluence of voices and dreams. 
 \n\nTutors for Extra Fabrica 2014:\n \nDoreen Bernath | SpaceMedia In
 t. , AA London\nGary Freedman | SHaGa London,  UN Studio, AAVS Tel Av
 iv\nPing Hsiang Chen | [IN]Morph Lab, KPF London, AA London\nAkshay Go
 yal | AG+DR, Architron Group, AA London\nSushant Verma | rat[LAB], Zah
 a Hadid Architects, AA London\n \nSymposium:\n \nAA DRL Director The
 odore Spyropoulos is the first confirmed keynote speaker for ExtraFabr
 ica 2014, with a number of more speakers to be confirmed soon for the 
 symposium, that takes place at the end of the workshop.\n \nCollabora
 tors:\n \nArthur Mamou-Mani | Mamou-Mani Ltd., Simply Rhino Ltd., Uni
 . Westminster\nAngel Fernando Lara Moreira | AA Digital Prototyping L
 ab, DLAB, Make LAB\nClive Eveleigh | WWarc.Taipei, ZERo-studio, Shih C
 hien University\nChun Fone Liu | Ming Chuan University, AA Em.Tech.\nY
 ao Chung-Han | i/O Lab, Shih Chien University\n\nFor more information 
 visit https://www.grasshopper3d.com/events/extra-fabrica-2014
DTSTART;TZID=America/Boise:20140628T000000
DTEND;TZID=America/Boise:20140709T235900
CATEGORIES:workshop, symposium, exhibition
LOCATION:Shih Chien University and Tamkang University
WEBSITE:http://www.dezact.org
URL:http://www.dezact.org
CONTACT:
ORGANIZER:DEZACT
ATTACH;FMTTYPE="image/jpeg":http://storage.ning.com/topology/rest/1.0/
 file/get/2828552281?profile=original
ATTENDEE;ROLE=REQ-PARTICIPANT;PARTSTAT=ACCEPTED;RSVP=TRUE;CN="Sushant 
 Verma":https://www.grasshopper3d.com/profile/SushantVerma
END:VEVENT
END:VCALENDAR
