BEGIN:VCALENDAR
PRODID:NingEventWidget-v1
VERSION:2.0
METHOD:PUBLISH
BEGIN:VTIMEZONE
TZID:America/Boise
X-LIC-LOCATION:America/Boise
BEGIN:DAYLIGHT
TZOFFSETFROM:-0700
TZOFFSETTO:-0600
TZNAME:MDT
DTSTART:19700308T020000
RRULE:FREQ=YEARLY;BYMONTH=3;BYDAY=2SU
END:DAYLIGHT
BEGIN:STANDARD
TZOFFSETFROM:-0600
TZOFFSETTO:-0700
TZNAME:MST
DTSTART:19701101T020000
RRULE:FREQ=YEARLY;BYMONTH=11;BYDAY=1SU
END:STANDARD
END:VTIMEZONE
BEGIN:VEVENT
UID:2985220:Event:23940
DTSTAMP:20260424T195109Z
SUMMARY:Eugene Parametric Society #3
DESCRIPTION:In this third meeting we will be exploring how to take Woo
  Jae's first and second exercises and apply the form to surfaces divid
 ed into segments by UV points. We should have time to explore some oth
 er topics as well.\n\nEPS Woo Jae Exercise_1+2.ghxwoojsungcom-rhinogra
 sshopperworkshopcornell20090313.pdf\n\nFor more information visit http
 s://www.grasshopper3d.com/events/eugene-parametric-society-3
DTSTART;TZID=America/Boise:20091013T200000
DTEND;TZID=America/Boise:20091013T220000
CATEGORIES:meeting, of, the, minds
LOCATION:Chula Vista Studio
WEBSITE:http://maps.google.com/maps?f=d&source=s_d&saddr=Agate+St&dadd
 r=Agate+St+to:Agate+St+to:E+24th+Ave+to:E+25th+Ave+to:44.031179,-123.0
 67399&hl=en&geocode=FX4VoAIdBhuq-A%3BFcUUoAIdBhuq-A%3BFaDlnwIdyhqq-A%3
 BFZflnwIdPyGq-A%3BFWbjnwIdjiSq-A%3B&mra=dme&mrcr=0&mrsp=5&sz=17&via=1,
 2,3,4&sll=44.032614,-123.066305&sspn=0.004358,0.011362&ie=UTF8&ll=44.0
 38522,-123.06108&spn=0.017431,0.045447&t=h&z=15
URL:http://maps.google.com/maps?f=d&source=s_d&saddr=Agate+St&daddr=Ag
 ate+St+to:Agate+St+to:E+24th+Ave+to:E+25th+Ave+to:44.031179,-123.06739
 9&hl=en&geocode=FX4VoAIdBhuq-A%3BFcUUoAIdBhuq-A%3BFaDlnwIdyhqq-A%3BFZf
 lnwIdPyGq-A%3BFWbjnwIdjiSq-A%3B&mra=dme&mrcr=0&mrsp=5&sz=17&via=1,2,3,
 4&sll=44.032614,-123.066305&sspn=0.004358,0.011362&ie=UTF8&ll=44.03852
 2,-123.06108&spn=0.017431,0.045447&t=h&z=15
CONTACT:
ORGANIZER;CN="Eugene Parametric Society":https://www.grasshopper3d.com
 /profile/Erik
ATTACH;FMTTYPE="image/jpeg":
ATTENDEE;ROLE=REQ-PARTICIPANT;PARTSTAT=ACCEPTED;RSVP=TRUE;CN="Eugene P
 arametric Society":https://www.grasshopper3d.com/profile/Erik
END:VEVENT
END:VCALENDAR
