BEGIN:VCALENDAR
PRODID:NingEventWidget-v1
VERSION:2.0
METHOD:PUBLISH
BEGIN:VTIMEZONE
TZID:America/Boise
X-LIC-LOCATION:America/Boise
BEGIN:DAYLIGHT
TZOFFSETFROM:-0700
TZOFFSETTO:-0600
TZNAME:MDT
DTSTART:19700308T020000
RRULE:FREQ=YEARLY;BYMONTH=3;BYDAY=2SU
END:DAYLIGHT
BEGIN:STANDARD
TZOFFSETFROM:-0600
TZOFFSETTO:-0700
TZNAME:MST
DTSTART:19701101T020000
RRULE:FREQ=YEARLY;BYMONTH=11;BYDAY=1SU
END:STANDARD
END:VTIMEZONE
BEGIN:VEVENT
UID:2985220:Event:68332
DTSTAMP:20260421T070730Z
SUMMARY:Essential Mathematics with Grasshopper
DESCRIPTION:Learning objective:\nParticipants will gain essential math
 ematical concepts necessary for effective algorithmic and computationa
 l design using generative applications.\n\nCourse summary:\n- Review v
 ector representation\n- Learn vector operations and their properties.\
 n- Review line and plane vector equations\n- Explain transformations.\
 n- Explain the properties of NURBS geometry.\n- Write few algorithms t
 hat use acquired mathematical concepts.\n\nFor more information visit 
 https://www.grasshopper3d.com/events/essential-mathematics-with
DTSTART;TZID=America/Boise:20100609T000000
DTEND;TZID=America/Boise:20100609T235900
CATEGORIES:workshop
LOCATION:McNeel Miami
WEBSITE:http://web.me.com/rhino3dtv/TV/Work_Shops.html
URL:http://web.me.com/rhino3dtv/TV/Work_Shops.html
CONTACT:305 513 4445
ORGANIZER:McNeel Miami
ATTACH;FMTTYPE="image/jpeg":http://storage.ning.com/topology/rest/1.0/
 file/get/2827706134?profile=original
ATTENDEE;ROLE=REQ-PARTICIPANT;PARTSTAT=ACCEPTED;RSVP=TRUE;CN="Andres G
 onzalez":https://www.grasshopper3d.com/profile/AndresGonzalez
ATTENDEE;ROLE=REQ-PARTICIPANT;PARTSTAT=ACCEPTED;RSVP=TRUE;CN="T. YAGI"
 :https://www.grasshopper3d.com/profile/TYAGI
ATTENDEE;ROLE=REQ-PARTICIPANT;PARTSTAT=ACCEPTED;RSVP=TRUE;CN="Rajaa Is
 sa":https://www.grasshopper3d.com/profile/RajaaIssa
END:VEVENT
END:VCALENDAR
