BEGIN:VCALENDAR
PRODID:NingEventWidget-v1
VERSION:2.0
METHOD:PUBLISH
BEGIN:VTIMEZONE
TZID:America/Boise
X-LIC-LOCATION:America/Boise
BEGIN:DAYLIGHT
TZOFFSETFROM:-0700
TZOFFSETTO:-0600
TZNAME:MDT
DTSTART:19700308T020000
RRULE:FREQ=YEARLY;BYMONTH=3;BYDAY=2SU
END:DAYLIGHT
BEGIN:STANDARD
TZOFFSETFROM:-0600
TZOFFSETTO:-0700
TZNAME:MST
DTSTART:19701101T020000
RRULE:FREQ=YEARLY;BYMONTH=11;BYDAY=1SU
END:STANDARD
END:VTIMEZONE
BEGIN:VEVENT
UID:2985220:Event:1673037
DTSTAMP:20260422T085640Z
SUMMARY:ENCODED MEMORY V1.0
DESCRIPTION:Promo Video: https://vimeo.com/203716854\n\nGrasshopper :
  Accord.Net\n\nJoin us at our next workshop ENCODED MEMORY V1.0 in Dub
 ai, UAE Apr 04 - Apr 08  A machine learning and neural network worksho
 p using Mateusz Zwierzycki's yet to be released to the public grasshop
 per plug in for machine learning, along with the Accord.Net Framework.
   Taught by  Mateusz Zwierzycki - DesignMorphine & CITA Zayad Motlib -
  D-NAT  Apply Now and view details at: http://designmorphine.com/work
 shop/future/encoded-memory-v1/   Follow us on Facebook: https://www.f
 acebook.com/designmorphine  and Instagram: https://www.instagram.com/
 designmorphine/\n\nFor more information visit https://www.grasshopper3
 d.com/events/encoded-memory-v1-0
DTSTART;TZID=America/Boise:20170404T090000
DTEND;TZID=America/Boise:20170408T200000
CATEGORIES:workshop, machine, grasshopper, parametric, details, fabric
 ation, documentation, network
LOCATION:Dubai Knowledge Village
WEBSITE:http://designmorphine.com/workshop/future/encoded-memory-v1/
URL:http://designmorphine.com/workshop/future/encoded-memory-v1/
CONTACT:
ORGANIZER;CN=DesignMorphine:https://www.grasshopper3d.com/profile/Desi
 gnMorphine
ATTACH;FMTTYPE="image/jpeg":http://storage.ning.com/topology/rest/1.0/
 file/get/2709050765?profile=original
ATTENDEE;ROLE=REQ-PARTICIPANT;PARTSTAT=ACCEPTED;RSVP=TRUE;CN=DesignMor
 phine:https://www.grasshopper3d.com/profile/DesignMorphine
ATTENDEE;ROLE=REQ-PARTICIPANT;PARTSTAT=ACCEPTED;RSVP=TRUE;CN="tang li 
 qun":https://www.grasshopper3d.com/profile/tangliqun
ATTENDEE;ROLE=REQ-PARTICIPANT;PARTSTAT=TENTATIVE;RSVP=TRUE;CN="Flora1.
 618":https://www.grasshopper3d.com/profile/DanaLadd
END:VEVENT
END:VCALENDAR
