BEGIN:VCALENDAR
PRODID:NingEventWidget-v1
VERSION:2.0
METHOD:PUBLISH
BEGIN:VTIMEZONE
TZID:America/Boise
X-LIC-LOCATION:America/Boise
BEGIN:DAYLIGHT
TZOFFSETFROM:-0700
TZOFFSETTO:-0600
TZNAME:MDT
DTSTART:19700308T020000
RRULE:FREQ=YEARLY;BYMONTH=3;BYDAY=2SU
END:DAYLIGHT
BEGIN:STANDARD
TZOFFSETFROM:-0600
TZOFFSETTO:-0700
TZNAME:MST
DTSTART:19701101T020000
RRULE:FREQ=YEARLY;BYMONTH=11;BYDAY=1SU
END:STANDARD
END:VTIMEZONE
BEGIN:VEVENT
UID:2985220:Event:506253
DTSTAMP:20260419T065236Z
SUMMARY:ECOLOGIC PATTERNS | ADVANCED GRASSHOPPER | ROME ITALY 18 > 22 
 JANUARY
DESCRIPTION:\n\nIl workshop avanzato ECOLOGIC PATTERNS affronta l’im
 piego di strategie parametriche all’interno del processo progettuale
 , approfondendo l’utilizzo di Grasshopper in sinergia con plug-in, s
 oftware di analisi ambientale e simulazione fisica. Obiettivo fondamen
 tale è la generazione della forma come risultato di tecniche di form-
 finding e di input ambientali (solari, termici e acustici). Verranno a
 cquisiti nuovi strumenti operativi e di simulazione al fine di costrui
 re modelli parametrici ottimizzati in grado di adattarsi a diverse con
 dizioni di contesto.\n\nTUTORS:\nArturo Tedeschi (Authorized Rhino Tra
 iner) +  Maurizio Arturo Degni | Matteo Gobbi\nmore info\n\nFor more 
 information visit https://www.grasshopper3d.com/events/ecologic-patter
 ns-advanced-grasshopper-rome-italy-18-22-january
DTSTART;TZID=America/Boise:20120118T000000
DTEND;TZID=America/Boise:20120122T235900
CATEGORIES:workshop, grasshopper, advanced, kangaroo, ecotect
LOCATION:Sala meeting Holiday Inn Express Rome | San Giovanni
WEBSITE:http://www.arturotedeschi.com/wordpress/?p=1879
URL:http://www.arturotedeschi.com/wordpress/?p=1879
CONTACT:0815642184
ORGANIZER:Arturo Tedeschi | Edizioni Le Penseur
ATTACH;FMTTYPE="image/jpeg":http://storage.ning.com/topology/rest/1.0/
 file/get/2827905993?profile=original
ATTENDEE;ROLE=REQ-PARTICIPANT;PARTSTAT=ACCEPTED;RSVP=TRUE;CN="Arturo T
 edeschi":https://www.grasshopper3d.com/profile/ArturoTedeschi
END:VEVENT
END:VCALENDAR
