BEGIN:VCALENDAR
PRODID:NingEventWidget-v1
VERSION:2.0
METHOD:PUBLISH
BEGIN:VTIMEZONE
TZID:America/Boise
X-LIC-LOCATION:America/Boise
BEGIN:DAYLIGHT
TZOFFSETFROM:-0700
TZOFFSETTO:-0600
TZNAME:MDT
DTSTART:19700308T020000
RRULE:FREQ=YEARLY;BYMONTH=3;BYDAY=2SU
END:DAYLIGHT
BEGIN:STANDARD
TZOFFSETFROM:-0600
TZOFFSETTO:-0700
TZNAME:MST
DTSTART:19701101T020000
RRULE:FREQ=YEARLY;BYMONTH=11;BYDAY=1SU
END:STANDARD
END:VTIMEZONE
BEGIN:VEVENT
UID:2985220:Event:1479896
DTSTAMP:20260422T002447Z
SUMMARY:Ecologic Patterns 2 - Grasshopper Avanzato + Plugins
DESCRIPTION:> Ecologic Patterns² rappresenta il secondo step del per
 corso formativo in tre fasi “AAD Workshop Series“. Il corso appro
 fondirà il tema della Freeform Architecture con particolare riferimen
 to alla razionalizzazione di forme complesse (PQ Meshes, developable s
 trips) ed all’ottimizzazione basata su input ambientali (solari, te
 rmici e acustici). Grasshopper verrà utilizato in sinergia con plug-
 ins, software di analisi ambientale-energetica e simulazione fisica. 
 Il corso è rivolto a studenti e professionisti dei settori della prog
 ettazione architettonica con esperienza nel’uso di Grasshopper e s
 i articolerà in lezioni teoriche frontali ed esercitazioni guidate. <
  \n\nFor more information visit https://www.grasshopper3d.com/events/
 ecologic-patterns-2
DTSTART;TZID=America/Boise:20160421T000000
DTEND;TZID=America/Boise:20160424T235900
CATEGORIES:workshop, corso, grasshopper
LOCATION:Meeting Room Hotel NH President
WEBSITE:http://www.arturotedeschi.com/wordpress/?page_id=7446
URL:http://www.arturotedeschi.com/wordpress/?page_id=7446
CONTACT:3475487178
ORGANIZER;CN="Arturo Tedeschi":https://www.grasshopper3d.com/profile/A
 rturoTedeschi
ATTACH;FMTTYPE="image/jpeg":http://storage.ning.com/topology/rest/1.0/
 file/get/2829206696?profile=original
ATTENDEE;ROLE=REQ-PARTICIPANT;PARTSTAT=ACCEPTED;RSVP=TRUE;CN="Arturo T
 edeschi":https://www.grasshopper3d.com/profile/ArturoTedeschi
END:VEVENT
END:VCALENDAR
