BEGIN:VCALENDAR
PRODID:NingEventWidget-v1
VERSION:2.0
METHOD:PUBLISH
BEGIN:VTIMEZONE
TZID:America/Boise
X-LIC-LOCATION:America/Boise
BEGIN:DAYLIGHT
TZOFFSETFROM:-0700
TZOFFSETTO:-0600
TZNAME:MDT
DTSTART:19700308T020000
RRULE:FREQ=YEARLY;BYMONTH=3;BYDAY=2SU
END:DAYLIGHT
BEGIN:STANDARD
TZOFFSETFROM:-0600
TZOFFSETTO:-0700
TZNAME:MST
DTSTART:19701101T020000
RRULE:FREQ=YEARLY;BYMONTH=11;BYDAY=1SU
END:STANDARD
END:VTIMEZONE
BEGIN:VEVENT
UID:2985220:Event:14084
DTSTAMP:20260424T071425Z
SUMMARY:eCAADe 2009 McNeel Workshops
DESCRIPTION:McNeel Europe has organized the following free of charge w
 orkshops for eCAADe Istanbul 2009 conference attendees on September, 1
 4-15:\n\n- Rhinoceros - NURBS 3D Modeling\n- RhinoScript, VB Scripting
  in Rhino\n- Grasshopper, Generative Modeling for Rhino\n\nMore detail
 s at http://www.eu.rhino3d.com/e-news/ecaade2009_0709.htm\n\nFor more 
 information visit https://www.grasshopper3d.com/events/ecaade-2009-mcn
 eel-workshops
DTSTART;TZID=America/Boise:20090914T090000
DTEND;TZID=America/Boise:20090915T180000
CATEGORIES:free, workshops, for, educators, "&", researchers
LOCATION:Yildiz Technical University School of Architecture
WEBSITE:http://www.eu.rhino3d.com/e-news/ecaade2009_0709.htm
URL:http://www.eu.rhino3d.com/e-news/ecaade2009_0709.htm
CONTACT:
ORGANIZER;CN="Carlos Pérez":https://www.grasshopper3d.com/profile/Car
 losPerez
ATTACH;FMTTYPE="image/jpeg":http://storage.ning.com/topology/rest/1.0/
 file/get/2827648386?profile=original
ATTENDEE;ROLE=REQ-PARTICIPANT;PARTSTAT=ACCEPTED;RSVP=TRUE;CN="gizem on
 es":https://www.grasshopper3d.com/profile/gizemones
ATTENDEE;ROLE=REQ-PARTICIPANT;PARTSTAT=ACCEPTED;RSVP=TRUE;CN=Serkan:ht
 tps://www.grasshopper3d.com/profile/Serkan
ATTENDEE;ROLE=REQ-PARTICIPANT;PARTSTAT=ACCEPTED;RSVP=TRUE;CN="Luis Fra
 guada":https://www.grasshopper3d.com/profile/LuisFraguada
ATTENDEE;ROLE=REQ-PARTICIPANT;PARTSTAT=ACCEPTED;RSVP=TRUE;CN="Dr Behra
 ng Eghbali":https://www.grasshopper3d.com/profile/behrangeghbali
ATTENDEE;ROLE=REQ-PARTICIPANT;PARTSTAT=ACCEPTED;RSVP=TRUE;CN="Tim Nøh
 r Elkær":https://www.grasshopper3d.com/profile/TimNoehrElkaer
ATTENDEE;ROLE=REQ-PARTICIPANT;PARTSTAT=ACCEPTED;RSVP=TRUE;CN="Jalal El
 -Ali":https://www.grasshopper3d.com/profile/JalalElAli
ATTENDEE;ROLE=REQ-PARTICIPANT;PARTSTAT=ACCEPTED;RSVP=TRUE;CN="Giulio P
 iacentino":https://www.grasshopper3d.com/profile/GiulioPiacentino
ATTENDEE;ROLE=REQ-PARTICIPANT;PARTSTAT=ACCEPTED;RSVP=TRUE;CN="Sigrid B
 rell-Cokcan":https://www.grasshopper3d.com/profile/SigridBrellCokcan
ATTENDEE;ROLE=REQ-PARTICIPANT;PARTSTAT=ACCEPTED;RSVP=TRUE;CN="Carlos P
 érez":https://www.grasshopper3d.com/profile/CarlosPerez
ATTENDEE;ROLE=REQ-PARTICIPANT;PARTSTAT=TENTATIVE;RSVP=TRUE;CN="Ernesto
  Bueno":https://www.grasshopper3d.com/profile/ErnestoBueno
ATTENDEE;ROLE=REQ-PARTICIPANT;PARTSTAT=TENTATIVE;RSVP=TRUE;CN="Rodrigo
  Bárcena":https://www.grasshopper3d.com/profile/RodrigoBarcena
END:VEVENT
END:VCALENDAR
