BEGIN:VCALENDAR
PRODID:NingEventWidget-v1
VERSION:2.0
METHOD:PUBLISH
BEGIN:VTIMEZONE
TZID:America/Boise
X-LIC-LOCATION:America/Boise
BEGIN:DAYLIGHT
TZOFFSETFROM:-0700
TZOFFSETTO:-0600
TZNAME:MDT
DTSTART:19700308T020000
RRULE:FREQ=YEARLY;BYMONTH=3;BYDAY=2SU
END:DAYLIGHT
BEGIN:STANDARD
TZOFFSETFROM:-0600
TZOFFSETTO:-0700
TZNAME:MST
DTSTART:19701101T020000
RRULE:FREQ=YEARLY;BYMONTH=11;BYDAY=1SU
END:STANDARD
END:VTIMEZONE
BEGIN:VEVENT
UID:2985220:Event:847153
DTSTAMP:20260419T092746Z
SUMMARY:Dynamic Fields [Responsive Architecture]
DESCRIPTION:Parametrica [Digi Fab School] from Bucharest, Romania, inv
 ites you to DYNAMIC FIELDS Workshop and Conference (16-29 July 2013) t
 o participate in the digital design build project, seeking to create a
 n inventive collaborative environment.\nThe workshop is part of a seri
 es of PARAMETRICA events, promoting computational design thinking and 
 exploring the new possibilities of parametric design.\n \nThe worksho
 p is aimed at: students, postgraduates, architects, interior, product 
 and urban designers, engineers, anybody interested.\n \n> Workshop CO
 NCEPT (16th – 28th July 2013):\nThe advancement of digital technolog
 y is helping architects to understand and respond to the complexity of
  the environment surrounding us.\n \nIn this 14 day workshop the vari
 ous energies which exist in a given environment will be identified, an
 alysed and then digital simulated.\n \nExperimental structures capabl
 e of reconfiguring themselves in response to the mapped forces will be
  generated and fabricated.\n \n> Conference CONCEPT (29th July 2013):
 \nDuring this day we will present the final workshop projects and our 
 special guest, Patrik Schumacher will exploit the subject of computati
 onal design thinking and parametric architecture, by putting the accen
 t on the subject  “Parametric Semiology – Architecture as the int
 erface of communication”\n \n> OBJECTIVES:\nThe workshop objectives
  are two-fold, in the first phase the workshop focuses on the identifi
 cation and analysis of resources inherent to the environmental context
 , thus developing a better understanding of their nature as well as op
 timized methods of use or response.\nIn the next phase, the objective 
 is to generate structures which through either means of fabrication or
  material properties can respond to, or utilize the environmental ener
 gy sources.\n \n> The project TEAM:\n \nKey lecturer: PATRIK SCHUMAC
 HER (DE)\nProfile: Director, Zaha Hadid Architects, London\n     
         Dr Phil, Dip Ing, ARB, RIBA\n             F
 ounder AA Design Reseach Lab London\n \nLecturer: Ina Leonte (RO)\nPr
 ofile:  PhDc, teaching assistant (UAIM, Bucharest, Romania)\n    
           Co-founder, Zest\n \nWorkshop main tutors:\nHOOMAN
  TALEBI [IR]\nProfile: MArch (AADRL, London), MSc (AUT, Tehran) \n 
           Lead Designer, Zaha Hadid – London\n \nFARSHAD 
 MEHDI’ZADEH [IR]\nProfile: March (IaaC-UPC, Barcelona, Spain)   
 \n            Co-founder, Tehran Architecture Studio (Iran
 )\n \nWorkshop assistant:\nMOHSEN MARIZAD [IR]\nProfile: MAA 2010 - A
 rchitect (IaaC-UPC, Barcelona, Spain)\n             Parame
 tric design expert\n           \nWorkshop coordinator: Dian
 a Nitreanu (RO)\nProfile: MAA 2010 - Architect/Urban Designer (IaaC-UP
 C, Barcelona, Spain)\n           Official Rhino Trainer\n 
          Co-founder, Laboratorul de Arhitectura; Co-founder &
  Tutor, Parametrica\n \n> EQUIPMENT Workshop: Each participant must p
 rovide their own laptop with the following software installed: A. Rhi
 noceros 3D 5.0 B. Grasshopper 3D (Latest Version) C. Arduino\nMachi
 nes to work on: 1. Laser Cutter - small laser for prototyping 2. Big
  laser cutter for final production \nMaterials (provided by Parametri
 ca) - To be specified according to the subject of study for each group
 ;\n \nFOR MORE INFO&REGISTRATION: \nwww.dynamicfields.ro\nwww.parame
 trica.ro\noffice@parametrica.ro\n \n\nFor more information visit http
 s://www.grasshopper3d.com/events/dynamic-fields-responsive-architectur
 e
DTSTART;TZID=America/Boise:20130716T090000
DTEND;TZID=America/Boise:20130729T200000
CATEGORIES:interactive, design
LOCATION:Bucharest, Romania
WEBSITE:http://www.dynamicfields.ro
URL:http://www.dynamicfields.ro
CONTACT:0040758860687
ORGANIZER;CN="Parametrica [Digi Fab School]":https://www.grasshopper3d
 .com/profile/ParametricaDigiFabSchool
ATTACH;FMTTYPE="image/jpeg":http://storage.ning.com/topology/rest/1.0/
 file/get/2828282272?profile=original
ATTENDEE;ROLE=REQ-PARTICIPANT;PARTSTAT=ACCEPTED;RSVP=TRUE;CN="Mohamad 
 Raouf":https://www.grasshopper3d.com/profile/MohamadRaouf
ATTENDEE;ROLE=REQ-PARTICIPANT;PARTSTAT=ACCEPTED;RSVP=TRUE;CN="Parametr
 ica [Digi Fab School]":https://www.grasshopper3d.com/profile/Parametri
 caDigiFabSchool
ATTENDEE;ROLE=REQ-PARTICIPANT;PARTSTAT=TENTATIVE;RSVP=TRUE;CN="adrian 
 ciotau":https://www.grasshopper3d.com/profile/adrianciotau
END:VEVENT
END:VCALENDAR
