BEGIN:VCALENDAR
PRODID:NingEventWidget-v1
VERSION:2.0
METHOD:PUBLISH
BEGIN:VTIMEZONE
TZID:America/Boise
X-LIC-LOCATION:America/Boise
BEGIN:DAYLIGHT
TZOFFSETFROM:-0700
TZOFFSETTO:-0600
TZNAME:MDT
DTSTART:19700308T020000
RRULE:FREQ=YEARLY;BYMONTH=3;BYDAY=2SU
END:DAYLIGHT
BEGIN:STANDARD
TZOFFSETFROM:-0600
TZOFFSETTO:-0700
TZNAME:MST
DTSTART:19701101T020000
RRULE:FREQ=YEARLY;BYMONTH=11;BYDAY=1SU
END:STANDARD
END:VTIMEZONE
BEGIN:VEVENT
UID:2985220:Event:866211
DTSTAMP:20260419T162708Z
SUMMARY:DIVA Day 2013
DESCRIPTION:DIVA Day is a conference on the use of environmental anal
 ysis in design practice and research.  The full-day event includes 
 a series of presentations and discussions, focused on how DIVA and as
 sociated simulation tools can be used in design and performance-evalua
 tion workflows.  Sessions include introductions to new features by th
 e DIVA Team, and research and case studies by practitioners at leadin
 g architectural, engineering and consulting firms and universities. Th
 is year, the afternoon will be devoted to an “Educators Session” 
 which will focus on ways DIVA is used in college and university archit
 ectural and building technology education.\n\nFor more information vis
 it https://www.grasshopper3d.com/events/diva-day-2013
DTSTART;TZID=America/Boise:20130715T083000
DTEND;TZID=America/Boise:20130715T170000
CATEGORIES:workshop, symposium
LOCATION:Thornton Tomasetti
WEBSITE:http://goo.gl/maps/BnyRn
URL:http://goo.gl/maps/BnyRn
CONTACT:
ORGANIZER:Solemma, LLC
ATTACH;FMTTYPE="image/jpeg":http://storage.ning.com/topology/rest/1.0/
 file/get/2828302913?profile=original
ATTENDEE;ROLE=REQ-PARTICIPANT;PARTSTAT=ACCEPTED;RSVP=TRUE;CN="Kera Lag
 ios":https://www.grasshopper3d.com/profile/KeraLagios
END:VEVENT
END:VCALENDAR
