BEGIN:VCALENDAR
PRODID:NingEventWidget-v1
VERSION:2.0
METHOD:PUBLISH
BEGIN:VTIMEZONE
TZID:America/Boise
X-LIC-LOCATION:America/Boise
BEGIN:DAYLIGHT
TZOFFSETFROM:-0700
TZOFFSETTO:-0600
TZNAME:MDT
DTSTART:19700308T020000
RRULE:FREQ=YEARLY;BYMONTH=3;BYDAY=2SU
END:DAYLIGHT
BEGIN:STANDARD
TZOFFSETFROM:-0600
TZOFFSETTO:-0700
TZNAME:MST
DTSTART:19701101T020000
RRULE:FREQ=YEARLY;BYMONTH=11;BYDAY=1SU
END:STANDARD
END:VTIMEZONE
BEGIN:VEVENT
UID:2985220:Event:464785
DTSTAMP:20260424T162442Z
SUMMARY:Diseño Paramétrico
DESCRIPTION:Conferencia destinada a nuevas prácticas en la arquitectu
 ra mediante métodos algorítmicos generativos para poder realizar rel
 aciones entre parámetros.\n\nFor more information visit https://www.g
 rasshopper3d.com/events/dise-o-param-trico-1
DTSTART;TZID=America/Boise:20111109T000000
DTEND;TZID=America/Boise:20111109T235900
CATEGORIES:conferencia
LOCATION:C.I.C.U.M. - Centro Universitario - Parque Gral. San Martín 
  UNIVERSIDAD NACIONAL DE CUYO
WEBSITE:
URL:
CONTACT:
ORGANIZER;CN="matías adrian casciotta":https://www.grasshopper3d.com/
 profile/matiasadriancasciotta
ATTACH;FMTTYPE="image/jpeg":http://storage.ning.com/topology/rest/1.0/
 file/get/2827863871?profile=original
ATTENDEE;ROLE=REQ-PARTICIPANT;PARTSTAT=ACCEPTED;RSVP=TRUE;CN=liubaiyu:
 https://www.grasshopper3d.com/profile/liubaiyu
ATTENDEE;ROLE=REQ-PARTICIPANT;PARTSTAT=ACCEPTED;RSVP=TRUE;CN="matías 
 adrian casciotta":https://www.grasshopper3d.com/profile/matiasadrianca
 sciotta
END:VEVENT
END:VCALENDAR
