BEGIN:VCALENDAR
PRODID:NingEventWidget-v1
VERSION:2.0
METHOD:PUBLISH
BEGIN:VTIMEZONE
TZID:America/Boise
X-LIC-LOCATION:America/Boise
BEGIN:DAYLIGHT
TZOFFSETFROM:-0700
TZOFFSETTO:-0600
TZNAME:MDT
DTSTART:19700308T020000
RRULE:FREQ=YEARLY;BYMONTH=3;BYDAY=2SU
END:DAYLIGHT
BEGIN:STANDARD
TZOFFSETFROM:-0600
TZOFFSETTO:-0700
TZNAME:MST
DTSTART:19701101T020000
RRULE:FREQ=YEARLY;BYMONTH=11;BYDAY=1SU
END:STANDARD
END:VTIMEZONE
BEGIN:VEVENT
UID:2985220:Event:1118265
DTSTAMP:20260419T080120Z
SUMMARY:Digital Skills Crash Course - Hacking Urbanism
DESCRIPTION:Grasshopper, Processing and Data Mining Workshop at ETH / 
 D-ARCH\n\nmore information can be found here\n\nFor more information v
 isit https://www.grasshopper3d.com/events/digital-skills-crash-course-
 hacking-urbanism
DTSTART;TZID=America/Boise:20141020T090000
DTEND;TZID=America/Boise:20141024T180000
CATEGORIES:seminar, week, at, eth
LOCATION:ETH Zurich / Hönggerberg / HIT / Chair for Information Archi
 tecture
WEBSITE:http://www.ia.arch.ethz.ch/category/teaching/hs2014-seminarwee
 k/
URL:http://www.ia.arch.ethz.ch/category/teaching/hs2014-seminarweek/
CONTACT:
ORGANIZER;CN="Matthias Standfest":https://www.grasshopper3d.com/profil
 e/MatthiasStandfest
ATTACH;FMTTYPE="image/jpeg":http://storage.ning.com/topology/rest/1.0/
 file/get/2828636772?profile=original
ATTENDEE;ROLE=REQ-PARTICIPANT;PARTSTAT=ACCEPTED;RSVP=TRUE;CN="Matthias
  Standfest":https://www.grasshopper3d.com/profile/MatthiasStandfest
END:VEVENT
END:VCALENDAR
